BEGIN:VCALENDAR
VERSION:2.0
PRODID:-//MUCBOOK - ECPv5.14.0.4//NONSGML v1.0//EN
CALSCALE:GREGORIAN
METHOD:PUBLISH
X-WR-CALNAME:MUCBOOK
X-ORIGINAL-URL:https://www.mucbook.de
X-WR-CALDESC:Veranstaltungen für MUCBOOK
BEGIN:VTIMEZONE
TZID:Europe/Berlin
BEGIN:DAYLIGHT
TZOFFSETFROM:+0100
TZOFFSETTO:+0200
TZNAME:CEST
DTSTART:20170326T010000
END:DAYLIGHT
BEGIN:STANDARD
TZOFFSETFROM:+0200
TZOFFSETTO:+0100
TZNAME:CET
DTSTART:20171029T010000
END:STANDARD
END:VTIMEZONE
BEGIN:VEVENT
DTSTART;TZID=Europe/Berlin:20170429T203000
DTEND;TZID=Europe/Berlin:20170429T220000
DTSTAMP:20260419T153245
CREATED:20170412T072121Z
LAST-MODIFIED:20170412T072121Z
UID:106467-1493497800-1493503200@www.mucbook.de
SUMMARY:100 Tage Great Again @ PATHOS
DESCRIPTION:Durch die Präsidentschaft Donald Trumps wird die Welt eine andere. Der Soziologe Ulrich Beck nannte solche Ereignisse „Metamorphosen der Welt“. Kommando Pninim – eine Münchner Theatergruppe aus Performerinnen und Performern\, Politikwissenschaftlerinnen und Politikwissenschaftlern – begibt sich dazu auf eine Recherche. Sie versucht\, diese Metamorphose greifbar zu machen. Vom Tag der Amtseinführung an beobachtet sie und trägt 100 Tage lang ihre Geschichte der Gegenwart zusammen. \nKommando Pninim richtet den Blick ebenso auf kleine\, schnell vergessene Verschiebungen\, wie auf große Entwicklungen. Die Künstlerinnen und Künstler kontrastieren Fakten\, wissenschaftliche Beobachtung und individuelle Perspektiven miteinander und suchen dafür nach einem Umgang im Theater. Ihr Ergebnis stellen sie an Tag Hundert der Trump-Präsidentschaft erstmalig vor. \nSamstag\, 29.04.2017 // 20:30 Uhr // PREMIERE // PATHOS Theater\nSonntag\, 30.04.2017 // 20:30 Uhr // PATHOS Theater\nMontag\, 01.05.2017 // 20:30 Uhr // PATHOS Theater\nDienstag\, 02.05.2017 // 20:30 Uhr // PATHOS Theater
URL:https://www.mucbook.de/event/100-tage-great-again-pathos/
LOCATION:Pathos München\, Dachauer Straße 110 d\, München
CATEGORIES:Theater
END:VEVENT
END:VCALENDAR