BEGIN:VCALENDAR
VERSION:2.0
PRODID:-//MUCBOOK - ECPv5.14.0.4//NONSGML v1.0//EN
CALSCALE:GREGORIAN
METHOD:PUBLISH
X-WR-CALNAME:MUCBOOK
X-ORIGINAL-URL:https://www.mucbook.de
X-WR-CALDESC:Veranstaltungen für MUCBOOK
BEGIN:VTIMEZONE
TZID:Europe/Berlin
BEGIN:DAYLIGHT
TZOFFSETFROM:+0100
TZOFFSETTO:+0200
TZNAME:CEST
DTSTART:20190331T010000
END:DAYLIGHT
BEGIN:STANDARD
TZOFFSETFROM:+0200
TZOFFSETTO:+0100
TZNAME:CET
DTSTART:20191027T010000
END:STANDARD
END:VTIMEZONE
BEGIN:VEVENT
DTSTART;TZID=Europe/Berlin:20190604T190000
DTEND;TZID=Europe/Berlin:20190604T220000
DTSTAMP:20260419T210239
CREATED:20190516T071851Z
LAST-MODIFIED:20190516T085258Z
UID:155788-1559674800-1559685600@www.mucbook.de
SUMMARY:9. Münchner Mieter*innenstammtisch - Giesing Edition @ riffraff
DESCRIPTION:VERNETZUNG\, AUSTAUSCH & TIPPS GEGEN DEN MIETENWAHNSINN \n* * * House-Speed-Dating * * *\nVom Mietenwahnsinn betroffene Bürger können einen Bericht oder Update Ihrer Situation darstellen. Wer ist dein Investor? Was ist bislang bei dir passiert? \n* * * Gastvortrag * * *\n„Bezahlbarer Wohnraum durch ein soziales Bodenrecht?“\nReferent Bernd Schreyer\nVorstandsmitglied des sozialpolitischen Forums München e.V. (Gründungsmitglied PRO SEM) \nIn München sind die Bodenpreise seit 1959 um 34.000 Prozent gestiegen und machen mittlerweile 70 Prozent der Baukosten beim Wohnungsbau aus. Mit einer städtebaulichen Entwicklungsmaßnahme – SEM – wie sie im Nordosten der Stadt geplant ist\, kann die Stadt die Bodenpreise einfrieren\, die Spekulation eindämmen und bezahlbare Wohnungen Sschaffen. Bernd Schreyer wird uns Überlegungen für ein neues Bodenrecht Vorstellen und die Grundzüge der geplanten SEM erläutern.
URL:https://www.mucbook.de/event/9-muenchner-mieterinnenstammtisch-giesing-edition-riffraff/
LOCATION:riffraff\, Tegernseer Landstraße 96\, München\, Bayern\, 81539\, Deutschland
CATEGORIES:Aktion,Diskussion,Vortrag
END:VEVENT
END:VCALENDAR