BEGIN:VCALENDAR
VERSION:2.0
PRODID:-//MUCBOOK - ECPv5.14.0.4//NONSGML v1.0//EN
CALSCALE:GREGORIAN
METHOD:PUBLISH
X-WR-CALNAME:MUCBOOK
X-ORIGINAL-URL:https://www.mucbook.de
X-WR-CALDESC:Veranstaltungen für MUCBOOK
BEGIN:VTIMEZONE
TZID:Europe/Berlin
BEGIN:DAYLIGHT
TZOFFSETFROM:+0100
TZOFFSETTO:+0200
TZNAME:CEST
DTSTART:20210328T010000
END:DAYLIGHT
BEGIN:STANDARD
TZOFFSETFROM:+0200
TZOFFSETTO:+0100
TZNAME:CET
DTSTART:20211031T010000
END:STANDARD
END:VTIMEZONE
BEGIN:VEVENT
DTSTART;VALUE=DATE:20211004
DTEND;VALUE=DATE:20211008
DTSTAMP:20260419T161257
CREATED:20210906T114723Z
LAST-MODIFIED:20210906T114724Z
UID:203691-1633305600-1633651199@www.mucbook.de
SUMMARY:AllFAcebook Marketing Conference @ bcc Berlin / Online
DESCRIPTION:#Anzeige \nDas diesjährige Programm wird in zwei Teilen stattfinden: Einerseits kannst du auf 2 Bühnen den Vorträgen von über 20 Speaker*innen lauschen\, andererseits kannst du deine Kenntnisse intensiv vertiefen\, indem du an spannenden Workshops in kleineren Gruppen teilnimmst. \nDie Konferenz startet am 4. Oktober mit den Panels und Talks\, die du vor Ort in Berlin oder bequem von Zuhause aus über den Stream verfolgen kannst. Ab 9 Uhr morgens werden alle möglichen relevanten Themen besprochen\, die Auswahl dabei ist denkbar groß: Egal ob Urheberrechte\, Kanalaufbau\, Brand Building oder Plattformen wie TikTok – für dich ist bestimmt auch was dabei. \n\nNetworking\, Workshops\, Panels\nGenau so wichtig wie das offizielle Programm ist natürlich auch ausreichend Zeit für Networking und interessante Gespräche. Aus diesem Grund ist zwischendurch für genügend Zeit und Raum gesorgt\, um bei Kaffee und Snacks Kontakte zu knüpfen und die Inhalte noch einmal Revue passieren zu lassen. \nAm 5. Oktober wird dann in den Workshops zum Deepdive in die Materie angesetzt: In kleinen Gruppen kannst du zum Experten/zur Expertin auf einzelnen Gebieten werden. Ganz zentral dabei ist das Lernen anhand von praktischen Beispielen. Die drei Themen dabei werden sich den Bereichen Instagram\, Facebook Ads und Facebook Pixel widmen und können auch unabhängig von der restlichen Konferenz gebucht werden. Diese Kurse kannst du am 7. Oktober auch noch einmal online besuchen – solltest du also am 5. Oktober nicht in Berlin sein können oder lieber Socially Distanced zuhause bleiben\, ist auch das kein Problem. \nIn aller Kürze: \nWas? AllFacebook Marketing Conference #AFBMC2021\nWann? 4. und 5. Oktober bzw. 7. Oktober\nWo? Online und im bcc am Alexanderplatz \nTickets und mehr Informationen findest du HIER.
URL:https://www.mucbook.de/event/allfacebook-marketing-conference-bcc-berlin-online/
LOCATION:online
CATEGORIES:Bildung,Diskussion,Live,Messe,Seminar,Tagung,Vortrag,Workshop
ATTACH;FMTTYPE=image/jpeg:https://www.mucbook.de/wp-content/uploads/2021/09/afbmcber20_1080x1080.jpg
END:VEVENT
END:VCALENDAR