BEGIN:VCALENDAR
VERSION:2.0
PRODID:-//MUCBOOK - ECPv5.14.0.4//NONSGML v1.0//EN
CALSCALE:GREGORIAN
METHOD:PUBLISH
X-WR-CALNAME:MUCBOOK
X-ORIGINAL-URL:https://www.mucbook.de
X-WR-CALDESC:Veranstaltungen für MUCBOOK
BEGIN:VTIMEZONE
TZID:Europe/Berlin
BEGIN:DAYLIGHT
TZOFFSETFROM:+0100
TZOFFSETTO:+0200
TZNAME:CEST
DTSTART:20180325T010000
END:DAYLIGHT
BEGIN:STANDARD
TZOFFSETFROM:+0200
TZOFFSETTO:+0100
TZNAME:CET
DTSTART:20181028T010000
END:STANDARD
END:VTIMEZONE
BEGIN:VEVENT
DTSTART;TZID=Europe/Berlin:20180730T180000
DTEND;TZID=Europe/Berlin:20180730T200000
DTSTAMP:20260424T181930
CREATED:20180718T102018Z
LAST-MODIFIED:20180718T102018Z
UID:134904-1532973600-1532980800@www.mucbook.de
SUMMARY:Amma & Appa @ DOK.fest
DESCRIPTION:18.00 Uhr – DOK.fest bei den Filmkunstwochen\n\nAMMA & APPA (Deutschland\, Indien 2014\, Franziska Schönenberger\, Jayakrishnan Subramanian\, DOK.aroundtheclock). Eine Liebe zwischen zwei Welten: Die Tradition von Jayakrishnans tamilischen Eltern erlaubt nur eine arrangierte Hochzeit innerhalb der eigenen Kaste. Dass Franziska Bayerin ist\, scheint ein unüberwindbares Hindernis. Vom Näherkommen zweier Kulturen – amüsant und persönlich.
URL:https://www.mucbook.de/event/amma-appa-dok-fest/
LOCATION:Rio 2
END:VEVENT
END:VCALENDAR