BEGIN:VCALENDAR
VERSION:2.0
PRODID:-//MUCBOOK - ECPv5.14.0.4//NONSGML v1.0//EN
CALSCALE:GREGORIAN
METHOD:PUBLISH
X-WR-CALNAME:MUCBOOK
X-ORIGINAL-URL:https://www.mucbook.de
X-WR-CALDESC:Veranstaltungen für MUCBOOK
BEGIN:VTIMEZONE
TZID:Europe/Berlin
BEGIN:DAYLIGHT
TZOFFSETFROM:+0100
TZOFFSETTO:+0200
TZNAME:CEST
DTSTART:20180325T010000
END:DAYLIGHT
BEGIN:STANDARD
TZOFFSETFROM:+0200
TZOFFSETTO:+0100
TZNAME:CET
DTSTART:20181028T010000
END:STANDARD
END:VTIMEZONE
BEGIN:VEVENT
DTSTART;TZID=Europe/Berlin:20180410T183000
DTEND;TZID=Europe/Berlin:20180410T220000
DTSTAMP:20260419T164014
CREATED:20180409T084540Z
LAST-MODIFIED:20180409T084540Z
UID:129394-1523385000-1523397600@www.mucbook.de
SUMMARY:Artist Talk @ Knust x Kunz
DESCRIPTION:MALEREI IST IMMER\n\n\nArtist Talk mit\nBernhart Schwenk\, Kurator für Gegenwartskunst\, Pinakothek der Moderne\nund Carsten Fock im Rahmen der Ausstellung Carsten Fock: ENDLICHKEIT\n\nDi\, 10. April––18.30 Uhr\nKnust x Kunz\, Theresienstraße 48\n\n\n\nweitere Infos’s unter: http://www.sabineknust.com/NEWS/NEWS20100809.html
URL:https://www.mucbook.de/event/artist-talk-knust-x-kunz/
CATEGORIES:Ausstellung,Diskussion,Kunst
END:VEVENT
END:VCALENDAR