BEGIN:VCALENDAR
VERSION:2.0
PRODID:-//MUCBOOK - ECPv5.14.0.4//NONSGML v1.0//EN
CALSCALE:GREGORIAN
METHOD:PUBLISH
X-WR-CALNAME:MUCBOOK
X-ORIGINAL-URL:https://www.mucbook.de
X-WR-CALDESC:Veranstaltungen für MUCBOOK
BEGIN:VTIMEZONE
TZID:Europe/Berlin
BEGIN:DAYLIGHT
TZOFFSETFROM:+0100
TZOFFSETTO:+0200
TZNAME:CEST
DTSTART:20180325T010000
END:DAYLIGHT
BEGIN:STANDARD
TZOFFSETFROM:+0200
TZOFFSETTO:+0100
TZNAME:CET
DTSTART:20181028T010000
END:STANDARD
END:VTIMEZONE
BEGIN:VEVENT
DTSTART;TZID=Europe/Berlin:20181018T180000
DTEND;TZID=Europe/Berlin:20181021T180000
DTSTAMP:20260421T201312
CREATED:20181016T071247Z
LAST-MODIFIED:20181016T073848Z
UID:140062-1539885600-1540144800@www.mucbook.de
SUMMARY:Messe - paper positions munich @ Alte Staatsbank
DESCRIPTION:In der zentral gelegenen Alten Bayerischen Staatsbank präsentieren während der gleichzeitig in München stattfindenden Highlights 39 internationale Galerien ihre aktuell prägnantesten Positionen aus zeitgenössischer und moderner Kunst mit Fokus auf Zeichnungen und dem Material Papier: Zeichnungen\, Collagen\, Scherenschnitte\, Fotografien\, Künstlerbücher und Objekte werden gezeigt. paper positions munich bietet ihren Besuchern auch in diesem Jahr wieder ein attraktives Rahmenprogramm mit Talks und einer Sonderausstellung. \nDie paper positions munich will dieses besondere Genre innerhalb der Kunst konzentriert in den Mittelpunkt stellen. Dabei sollen jene Galerien und die von ihnen vertretenen Künstler eine Präsentationsmöglichkeit bekommen\, die sich dem Medium Papier mit all seinen spezifischen Besonderheiten\, seiner Fragilität und seiner enormen Vielseitigkeit widmen. \nIm Sinne ihres ganz auf die meist sensiblen Exponate zugeschnittenen Messekonzepts ohne klassische Kojen setzt die paper positions munich bewusst auf eine salonartige Situation. Ebenso unterstreicht die begrenzte Anzahl der Aussteller den Charakter einer großen Themenausstellung. Die räumliche Gestaltung bietet den Besuchern sowohl einen offenen Überblick als auch die Möglichkeit\, sich einzelnen künstlerischen Werken unmittelbar zu nähern und sie im wechselseitigen Dialog wahrzunehmen.
URL:https://www.mucbook.de/event/ausstellung-paper-positions-munich-alte-staatsbank/
LOCATION:Alte Staatsbank
CATEGORIES:Ausstellung,Kunst
END:VEVENT
END:VCALENDAR