BEGIN:VCALENDAR
VERSION:2.0
PRODID:-//MUCBOOK - ECPv5.14.0.4//NONSGML v1.0//EN
CALSCALE:GREGORIAN
METHOD:PUBLISH
X-WR-CALNAME:MUCBOOK
X-ORIGINAL-URL:https://www.mucbook.de
X-WR-CALDESC:Veranstaltungen für MUCBOOK
BEGIN:VTIMEZONE
TZID:Europe/Berlin
BEGIN:DAYLIGHT
TZOFFSETFROM:+0100
TZOFFSETTO:+0200
TZNAME:CEST
DTSTART:20170326T010000
END:DAYLIGHT
BEGIN:STANDARD
TZOFFSETFROM:+0200
TZOFFSETTO:+0100
TZNAME:CET
DTSTART:20171029T010000
END:STANDARD
END:VTIMEZONE
BEGIN:VEVENT
DTSTART;TZID=Europe/Berlin:20171006T203000
DTEND;TZID=Europe/Berlin:20171006T213000
DTSTAMP:20260423T224822
CREATED:20170919T130749Z
LAST-MODIFIED:20170919T130749Z
UID:118067-1507321800-1507325400@www.mucbook.de
SUMMARY:BASST SCHO - Teil 2: Seat-sighing
DESCRIPTION:Bumillo probt öffentlich\, Bumillo probiert aus\, Bumillo wagt\, Bumillo testet\, Bumillo verbrennt im Moment\, Bumillo checkt das Mic und sein Live-Material. Ohne Regie\, ohne doppelten Boden\, straight from the sonstwo\, unmittelbar\, direkt\, roh\, frisch\, grob\, ungeschminkt und ohne Angst. Hier ist der Platz\, um Dinge entstehen zu lassen. Dies ist der zweite Schritt zum neuen Soloprogramm. \n60 Minuten Stand-up Materialcheck II \nEintritt 7€ oder: „10€\, basst scho …“
URL:https://www.mucbook.de/event/basst-scho-teil-2-seat-sighing/
LOCATION:Vereinsheim\, Occamstr. 8\, 80802 München
CATEGORIES:Live
END:VEVENT
END:VCALENDAR