BEGIN:VCALENDAR
VERSION:2.0
PRODID:-//MUCBOOK - ECPv5.14.0.4//NONSGML v1.0//EN
CALSCALE:GREGORIAN
METHOD:PUBLISH
X-WR-CALNAME:MUCBOOK
X-ORIGINAL-URL:https://www.mucbook.de
X-WR-CALDESC:Veranstaltungen für MUCBOOK
BEGIN:VTIMEZONE
TZID:Europe/Berlin
BEGIN:DAYLIGHT
TZOFFSETFROM:+0100
TZOFFSETTO:+0200
TZNAME:CEST
DTSTART:20220327T010000
END:DAYLIGHT
BEGIN:STANDARD
TZOFFSETFROM:+0200
TZOFFSETTO:+0100
TZNAME:CET
DTSTART:20221030T010000
END:STANDARD
END:VTIMEZONE
BEGIN:VEVENT
DTSTART;TZID=Europe/Berlin:20220401T083000
DTEND;TZID=Europe/Berlin:20220413T210000
DTSTAMP:20260419T180143
CREATED:20220407T140013Z
LAST-MODIFIED:20220407T140013Z
UID:211240-1648801800-1649883600@www.mucbook.de
SUMMARY:Big & Growing New Work Festival
DESCRIPTION:Big & Growing New Work Festival – Erlebe die Arbeitswelt der Zukunft: vom 01. bis 13. April vernetzt sich die New Work Bewegung in München.\nDich erwartet ein vielseitiges und interaktives Festival-Programm\, woran sich 6 Chapters (deutsch “Standorte”) beteiligen. Diese stellen dezentral und autonom ihre Bühnen zusammen. Für jeden Standort gibt es separate Tickets.
URL:https://www.mucbook.de/event/big-growing-new-work-festival/
CATEGORIES:Bildung,Diskussion,Festival,Live,Livestream,Seminar,Tagung,Vortrag,Workshop
ATTACH;FMTTYPE=image/jpeg:https://www.mucbook.de/wp-content/uploads/2022/04/Big-Growing.jpeg
END:VEVENT
END:VCALENDAR