BEGIN:VCALENDAR
VERSION:2.0
PRODID:-//MUCBOOK - ECPv5.14.0.4//NONSGML v1.0//EN
CALSCALE:GREGORIAN
METHOD:PUBLISH
X-WR-CALNAME:MUCBOOK
X-ORIGINAL-URL:https://www.mucbook.de
X-WR-CALDESC:Veranstaltungen für MUCBOOK
BEGIN:VTIMEZONE
TZID:Europe/Berlin
BEGIN:DAYLIGHT
TZOFFSETFROM:+0100
TZOFFSETTO:+0200
TZNAME:CEST
DTSTART:20170326T010000
END:DAYLIGHT
BEGIN:STANDARD
TZOFFSETFROM:+0200
TZOFFSETTO:+0100
TZNAME:CET
DTSTART:20171029T010000
END:STANDARD
END:VTIMEZONE
BEGIN:VEVENT
DTSTART;TZID=Europe/Berlin:20170915T200000
DTEND;TZID=Europe/Berlin:20170915T230000
DTSTAMP:20260422T121907
CREATED:20170822T093917Z
LAST-MODIFIED:20170822T093917Z
UID:116170-1505505600-1505516400@www.mucbook.de
SUMMARY:Bitch Doktrin: Laurie Penny @ Literaturhaus München
DESCRIPTION:Laurie Penny\, 1986 in London geboren\, ist eine der wichtigsten Stimmen des jungen Feminismus. Klug\, provokant und witzig sind ihre neuen Essays (Edition Nautilus // aus dem Englischen von Anne Emmert).�Vom Schock der Trump-Wahl und den Siegen der extremen Rechten bis hin zu Cybersexismus und Hate Speech – Penny analysiert die Themen unserer Zeit und wirft dabei immer auch einen scharfen Blick auf Gleichstellung und Diskriminierung. Zusammen mit Meredith Haaf\, Gründerin des feministischen Blogs Mädchenmannschaft.net\, ruft Laurie Penny heute Abend dazu auf\, sich nicht den Mund verbieten zu lassen – sondern eine »Bitch« zu sein und die Stimme zu erheben.\nDie Schauspielerin Lisa Wagner komplettiert dieses Podium starker Frauen und liest die deutschen Passagen des Textes.  \nModeration: Meredith Haaf\nLesung der deutschen Passagen: Lisa Wagner \nVeranstaltung in englischer & deutscher Sprache\nVeranstalter: Stiftung Literaturhaus. Mit freundlicher Unterstützung durch Literatur Moths\nEintritt: Euro 10.- / 7.-  \n»Eine Alternative für alle\, denen der zeitgenössische Feminismus zu unintellektuell ist\, zu humorfrei\, zu lasch ist.« (Maren Keller\, KulturSPIEGEL)
URL:https://www.mucbook.de/event/bitch-doktrin-laurie-penny-literaturhaus-muenchen/
LOCATION:Literaturhaus\, Salvatorplatz 1
CATEGORIES:Diskussion,Lesung,Live,Vortrag
END:VEVENT
END:VCALENDAR