BEGIN:VCALENDAR
VERSION:2.0
PRODID:-//MUCBOOK - ECPv5.14.0.4//NONSGML v1.0//EN
CALSCALE:GREGORIAN
METHOD:PUBLISH
X-WR-CALNAME:MUCBOOK
X-ORIGINAL-URL:https://www.mucbook.de
X-WR-CALDESC:Veranstaltungen für MUCBOOK
BEGIN:VTIMEZONE
TZID:Europe/Berlin
BEGIN:DAYLIGHT
TZOFFSETFROM:+0100
TZOFFSETTO:+0200
TZNAME:CEST
DTSTART:20230326T010000
END:DAYLIGHT
BEGIN:STANDARD
TZOFFSETFROM:+0200
TZOFFSETTO:+0100
TZNAME:CET
DTSTART:20231029T010000
END:STANDARD
END:VTIMEZONE
BEGIN:VEVENT
DTSTART;TZID=Europe/Berlin:20231201T200000
DTEND;TZID=Europe/Berlin:20231201T200000
DTSTAMP:20260424T174129
CREATED:20231114T083358Z
LAST-MODIFIED:20231114T183419Z
UID:226558-1701460800-1701460800@www.mucbook.de
SUMMARY:BLACKOUTS @ Zirka Space
DESCRIPTION:MÜNCHEN – Am ersten und zweiten Dezember verwandelt sich das Münchner ZIRKA in ein Kraftwerk. Als Stromquelle sollen dabei die tanzenden Besucher:innen dienen und dadurch nach und nach neue unkonventionelle Programm-Momente auslösen. Das Programm ist kostenlos und für jeden zugänglich.\nDie Performance BLACKOUTS entwirft die Idee eines menschlichen Kraftwerks und stellt sich den gesellschaftlichen Fragen\, die aus diesem Konzept resultieren: Wenn also menschliche kinetische Energie zur Energiegewinnung genutzt werden kann — wie verändert sich dadurch unser (Selbst-)Verständnis im Umgang mit unserem Körper? Ordnet sich der Mensch auf diese Weise gleichwertig in einen »natürlichen« Energiekreislauf ein und überkommt somit dem selbst konstruierten Dualismus Mensch /Natur? Oder entspinnt sich nur ein neuer Kreislauf der Ausbeutung (Wer wird für die Stromerzeugung herangezogen?) und Ausgrenzung (Welche Körper sind nach diesem Prinzip »verwertbar«\, welche nicht)? \nTANZGRUPPE\, COWBOYS UND CHOR INSGESAMT ÜBER 30 ZUSÄTZLICH INVOLVIERTE\nDARSTELLER:INNEN \nKollektivität wird der Kapitalisierung menschlicher Körper gegenüberstellt. So entsteht eine immersive Performance\, die dem Publikum die Möglichkeit gibt\, einen Diskurs über den Nutzen und Verbrauch von Energien mitzugestalten. Jede:r Besucher:in erhält einen Bewegungszähler und wird somit Teil des menschlichen Kraftwerks\, welches Schritt für Schritt immer wieder neue Level erreicht. Dabei treffen Superheld:innen auf Bodybuilder:innen\, Cowboys auf schwangere Poledancerinnen\, und eine Line-Dance-Gruppe auf einen Headbanging-Chor. Am Ende bleibt nur die Frage\, wer hier eigentlich wen antreibt und ob Tränen die krisensicherste Währung sind? \n\n		\n		\n			\n				\n			\n			\n				\n			\n			\n				\n			\n			\n				\n			\n		\n\n\nPREMIERE Freitag\, 1.12.2023\, 20:00 Uhr\nweitere Vorstellung Samstag\, 2.12.2023\, 20:00 Uhr\nORT ZIRKA Space\nPREISE Eintritt frei\nDAUER Open End \nMehr auf über das Kollektiv service not included auf https://www.service-not-included.com/ \n(Fotos: © Sophia Krasomil)
URL:https://www.mucbook.de/event/blackouts-zirka-space/
LOCATION:ZIRKA\, Dachauer Straße 110c\, München\, Bayern\, 80636\, Deutschland
CATEGORIES:Aktion,Performance
ATTACH;FMTTYPE=image/jpeg:https://www.mucbook.de/wp-content/uploads/2023/11/WhatsApp_Image_2023-11-13_at_11.53.37.jpeg.jpg
END:VEVENT
END:VCALENDAR