BEGIN:VCALENDAR
VERSION:2.0
PRODID:-//MUCBOOK - ECPv5.14.0.4//NONSGML v1.0//EN
CALSCALE:GREGORIAN
METHOD:PUBLISH
X-WR-CALNAME:MUCBOOK
X-ORIGINAL-URL:https://www.mucbook.de
X-WR-CALDESC:Veranstaltungen für MUCBOOK
BEGIN:VTIMEZONE
TZID:Europe/Berlin
BEGIN:DAYLIGHT
TZOFFSETFROM:+0100
TZOFFSETTO:+0200
TZNAME:CEST
DTSTART:20180325T010000
END:DAYLIGHT
BEGIN:STANDARD
TZOFFSETFROM:+0200
TZOFFSETTO:+0100
TZNAME:CET
DTSTART:20181028T010000
END:STANDARD
END:VTIMEZONE
BEGIN:VEVENT
DTSTART;TZID=Europe/Berlin:20181130T200000
DTEND;TZID=Europe/Berlin:20181130T223000
DTSTAMP:20260424T012446
CREATED:20181115T152345Z
LAST-MODIFIED:20181115T152345Z
UID:142160-1543608000-1543617000@www.mucbook.de
SUMMARY:Bumillo "Die Rutsche rauf" @ Münchner Lach- und Schießgesellschaft
DESCRIPTION:Seit seiner Premiere im Münchner Lustspielhaus im Januar 2018 tourt Bumillo mit seinem zweiten Soloprogramm „Die Rutsche rauf“ über deutschsprachige Bühnen. Die Süddeutsche Zeitung lobte: „Schon klasse dieser Typ (…) spielerisch\, fesselnd\, mitreißend.“\nEs brodelt. Weltweit. Aber immer nur zynisch kommentieren und draufhauen ist doch keine Lösung! Ja\, vieles geht den Bach runter\, aber längst nicht alles. Vor allem wenn man selbst konstruktiv mitgestaltet. Wie Bumillo: der geht die Rutsche rauf! Abgeschaut bei den Kindern auf dem Spielplatz\, wenn sie zum ersten Mal entdecken\, wie viel Spaß eine große Herausforderung machen kann. Und mit welcher Freude sie wieder runterrutschen mit einer tollen Erfahrung im Rücken!\nWenn Bumillo die Rutsche mit Vollgas runtersaust\, hat er weit mehr als schnelllebige Gags mit im Gepäck. Aufmerksam beobachtet der wortgewandte\, Poetry-Slam-geschulte Standup-Comedian die Menschen\, mischt kritische\, aktuelle gesellschaftspolitische Quintessenzen mit wohldosiertem Quatsch\, mäandert klug zwischen Philosophie und Poesie\, Teddybär und TED-Talk.\n„Bu!“\, ruft das Publikum meist begeistert am Schluss einer Vorstellung. Natürlich ohne „h“. Um die Bedeutung der Kurzform seines Künstlernamens zu erklären lässt Christian Bumeder tief in seine Gedankenwelt blicken. Denn Bu meint viel mehr als eine schnöde Abkürzung. Bu steht für „be you!“\, weit entfernt vom üblichen „Bleib’ so\, wie du bist!“. Bu meint: „Sei du\, entwickle dich\, mach’ von mir aus ein paar Fehler\, lauf’ auch mal in die falsche Richtung\, aber beweg’ dich!“\nVielleicht liegt es an Bumillos Geburtsort\, dem idyllischen Chiemgau\, in dessen gut geerdeter Energie so viele kreative Geister heranwachsen. Der Mittdreißiger ist inspirierender Optimist durch und durch\, reißt mit seinem Glauben an das Mögliche sein Publikum mit. Dabei kann der erfahrene Moderator nicht nur mit viriler Bühnenpräsenz und bebenden Worten wunderbar unterhalten\, sondern auch richtig Mut machen. Seine Neugier ist echt\, seine Ideen clever und frech und manchmal erfrischend kühn. Sein Credo: Es gibt so viel zu entdecken\, wenn man Angst und Zweifel mal ein bisschen bei Seite schiebt.
URL:https://www.mucbook.de/event/bumillo-die-rutsche-rauf-muenchner-lach-und-schiessgesellschaft/
LOCATION:Lach- und Schießgesellschaft
END:VEVENT
END:VCALENDAR