BEGIN:VCALENDAR
VERSION:2.0
PRODID:-//MUCBOOK - ECPv5.14.0.4//NONSGML v1.0//EN
CALSCALE:GREGORIAN
METHOD:PUBLISH
X-WR-CALNAME:MUCBOOK
X-ORIGINAL-URL:https://www.mucbook.de
X-WR-CALDESC:Veranstaltungen für MUCBOOK
BEGIN:VTIMEZONE
TZID:Europe/Berlin
BEGIN:DAYLIGHT
TZOFFSETFROM:+0100
TZOFFSETTO:+0200
TZNAME:CEST
DTSTART:20190331T010000
END:DAYLIGHT
BEGIN:STANDARD
TZOFFSETFROM:+0200
TZOFFSETTO:+0100
TZNAME:CET
DTSTART:20191027T010000
END:STANDARD
END:VTIMEZONE
BEGIN:VEVENT
DTSTART;TZID=Europe/Berlin:20190314T180000
DTEND;TZID=Europe/Berlin:20190314T220000
DTSTAMP:20260419T192830
CREATED:20190111T144949Z
LAST-MODIFIED:20190111T145034Z
UID:145802-1552586400-1552600800@www.mucbook.de
SUMMARY:Creating Craft Beer – Tasting @Jüdisches Museum
DESCRIPTION:Eine Hommage an die lokale Braukultur. Münchner Bier-Startups berichten von ihren Anfängen\, lassen Hopfiges verkosten und geben Einblicke in ihre Braugeheimnisse. \nIn Kooperation mit dem Jüdischen Museum München und dem Café Exponat lädt das Stadtmagazin MUCBOOK innovative Münchner Craft Bier Brauereien während eines Bier-Tastings dazu ein\, die inspirierenden Geschichten hinter den neuen Bieren zu erzählen. Von der Suche nach dem richtigen Namen über die Gestaltung des Logos bis hin zum Design beliebter Geschmacksnoten und Lösungen für vegane Etikettenkleber geben Bier-Startups Einblicke in ihre Kreativprozesse. Bernhard Purin\, Direktor des Jüdischen Museums\, wird über die jüdische Braukultur in München berichten.
URL:https://www.mucbook.de/event/creating-craft-beer-tasting-juedisches-museum/
LOCATION:Jüdisches Museum\, Sankt-Jakobs-Platz 16\, München
END:VEVENT
END:VCALENDAR