BEGIN:VCALENDAR
VERSION:2.0
PRODID:-//MUCBOOK - ECPv5.14.0.4//NONSGML v1.0//EN
CALSCALE:GREGORIAN
METHOD:PUBLISH
X-WR-CALNAME:MUCBOOK
X-ORIGINAL-URL:https://www.mucbook.de
X-WR-CALDESC:Veranstaltungen für MUCBOOK
BEGIN:VTIMEZONE
TZID:Europe/Berlin
BEGIN:DAYLIGHT
TZOFFSETFROM:+0100
TZOFFSETTO:+0200
TZNAME:CEST
DTSTART:20190331T010000
END:DAYLIGHT
BEGIN:STANDARD
TZOFFSETFROM:+0200
TZOFFSETTO:+0100
TZNAME:CET
DTSTART:20191027T010000
END:STANDARD
END:VTIMEZONE
BEGIN:VEVENT
DTSTART;TZID=Europe/Berlin:20190625T200000
DTEND;TZID=Europe/Berlin:20190625T213000
DTSTAMP:20260424T103736
CREATED:20190621T115401Z
LAST-MODIFIED:20190621T115401Z
UID:159108-1561492800-1561498200@www.mucbook.de
SUMMARY:Das gräuliche Festmahl @ Heppel & Ettlich
DESCRIPTION:Das gräuliche Festmahl – Eine Faschingsburleske nach Jacques Offenbach. \nAlles ist angerichtet: Die Kerzen brennen auf der langen Tafel\, Gläser und Teller haben ihren Platz gefunden. Das engagierte Blasquintett versüßt die Atmosphäre mit wohligen Klängen. \nNur das Essen fehlt. So etwas Ärgerliches! Dafür hat wohl das Produktionsgeld nicht mehr gereicht. Wenn sich Häuptling Abendwind nicht schnell etwas einfallen lässt\, wird das gegnerische Publikum aus dem Stamm der Erzfeinde ihr Eintrittsgeld zurückverlangen. Oder er muss sein Stammpublikum der Konkurrenz zum Fraß vorwerfen. \nNach der ausverkauften Premiere im Sisyphos Club Berlin im Rahmen des Performing Arts Festivals kommt das Berliner Musiktheaterkollektiv tutti d*amore für zwei Vorstellungen nach München. Es nimmt Jacques Offenbachs Faschingsburleske anlässlich 200. Geburtstages des Komponisten beim Wort und inszeniert ein wahres Festmahl für das Publikum – und sich.
URL:https://www.mucbook.de/event/das-graeuliche-festmahl-heppel-ettlich/
LOCATION:Theater Heppel & Ettlich\, Feilitzschstr. 12\, München\, 80802
CATEGORIES:Musik,Theater
END:VEVENT
END:VCALENDAR