BEGIN:VCALENDAR
VERSION:2.0
PRODID:-//MUCBOOK - ECPv5.14.0.4//NONSGML v1.0//EN
CALSCALE:GREGORIAN
METHOD:PUBLISH
X-WR-CALNAME:MUCBOOK
X-ORIGINAL-URL:https://www.mucbook.de
X-WR-CALDESC:Veranstaltungen für MUCBOOK
BEGIN:VTIMEZONE
TZID:Europe/Berlin
BEGIN:DAYLIGHT
TZOFFSETFROM:+0100
TZOFFSETTO:+0200
TZNAME:CEST
DTSTART:20170326T010000
END:DAYLIGHT
BEGIN:STANDARD
TZOFFSETFROM:+0200
TZOFFSETTO:+0100
TZNAME:CET
DTSTART:20171029T010000
END:STANDARD
END:VTIMEZONE
BEGIN:VEVENT
DTSTART;TZID=Europe/Berlin:20170910T200000
DTEND;TZID=Europe/Berlin:20170910T223000
DTSTAMP:20260424T120428
CREATED:20170905T135425Z
LAST-MODIFIED:20170905T135425Z
UID:117146-1505073600-1505082600@www.mucbook.de
SUMMARY:Der Original Substanz Poetry Slam @ Substanz
DESCRIPTION:Nach drei Monaten Sommerpause kehrt Münchens legendärster Poetry Slam wieder zurück. Das Line-Up ist erlesen wie eh und je und lockt wieder die Stars der Szene in das altehrwürdige Substanz und präsentiert junge Slammerinnen und Slammer\, die es noch zu entdecken gilt. \nDie Saison eröffnen mit uns der Baden-Württemberg-Meister 2016 STEFAN UNSER (Karlsruhe)\, die amtierende Frankenmeisterin FREDERIKE JAKOB (Nürnberg)\, der Berliner Storyteller AIDIN HALIMI\, die Performance Poetin LUCA SWIETER (Aachen) und Shooting Star JEAN PHILIPPE KINDLER (Tübingen) sowie die Lokalmatador*innen BIGGI ROHM\, JULIUS ALTHOETMAR\, VOLKER KEIDEL\, ANJA PERKUHN und DAVE APPLESON. \nFür die musikalische Uterstützung sorgt DJ MISANTHROP. \nEintritt 7€ (nur Abendkasse)\, Einlass !9 Uhr\, Beginn 20 Uhr.
URL:https://www.mucbook.de/event/der-original-substanz-poetry-slam-substanz/
LOCATION:Substanz\, Ruppertstr. 28\, 80337 München
CATEGORIES:Fest,Live,Vortrag
END:VEVENT
END:VCALENDAR