BEGIN:VCALENDAR
VERSION:2.0
PRODID:-//MUCBOOK - ECPv5.14.0.4//NONSGML v1.0//EN
CALSCALE:GREGORIAN
METHOD:PUBLISH
X-WR-CALNAME:MUCBOOK
X-ORIGINAL-URL:https://www.mucbook.de
X-WR-CALDESC:Veranstaltungen für MUCBOOK
BEGIN:VTIMEZONE
TZID:Europe/Berlin
BEGIN:DAYLIGHT
TZOFFSETFROM:+0100
TZOFFSETTO:+0200
TZNAME:CEST
DTSTART:20230326T010000
END:DAYLIGHT
BEGIN:STANDARD
TZOFFSETFROM:+0200
TZOFFSETTO:+0100
TZNAME:CET
DTSTART:20231029T010000
END:STANDARD
END:VTIMEZONE
BEGIN:VEVENT
DTSTART;TZID=Europe/Berlin:20231206T190000
DTEND;TZID=Europe/Berlin:20231206T233000
DTSTAMP:20260424T155502
CREATED:20231129T075556Z
LAST-MODIFIED:20231129T075556Z
UID:227158-1701889200-1701905400@www.mucbook.de
SUMMARY:Disco Night @ die Perle
DESCRIPTION:Absteppen statt Kaffeekränzchen \n💃🏻 DISCO NIGHT IN DER PERLE 💃🏻\n👉 06. Dezember\, 19 Uhr\n📀 DJ Supersub \nBei uns tanzt jeder Generation zum gleichen Beat!\nKomm mit uns auf eine pulsierende Zeitreise durch die Grooves vergangener Jahrzehnte. Dich erwartet ein Mix aus Disco-House\, 80er- und 90er-Klängen sowie poppigen Highlights.\nEverybody‘s welcome! \nAbendkasse 6€\nNostalgie-Preis Ü60 4€
URL:https://www.mucbook.de/event/disco-night-die-perle/
LOCATION:Die Perle\, Agnes-Bernauer-Straße 51\, München\, Bayern\, 80687\, Deutschland
CATEGORIES:Musik,Party,Tanz
ATTACH;FMTTYPE=image/png:https://www.mucbook.de/wp-content/uploads/2023/11/Bildschirmfoto-2023-11-29-um-08.53.40.png
END:VEVENT
END:VCALENDAR