BEGIN:VCALENDAR
VERSION:2.0
PRODID:-//MUCBOOK - ECPv5.14.0.4//NONSGML v1.0//EN
CALSCALE:GREGORIAN
METHOD:PUBLISH
X-WR-CALNAME:MUCBOOK
X-ORIGINAL-URL:https://www.mucbook.de
X-WR-CALDESC:Veranstaltungen für MUCBOOK
BEGIN:VTIMEZONE
TZID:Europe/Berlin
BEGIN:DAYLIGHT
TZOFFSETFROM:+0100
TZOFFSETTO:+0200
TZNAME:CEST
DTSTART:20190331T010000
END:DAYLIGHT
BEGIN:STANDARD
TZOFFSETFROM:+0200
TZOFFSETTO:+0100
TZNAME:CET
DTSTART:20191027T010000
END:STANDARD
END:VTIMEZONE
BEGIN:VEVENT
DTSTART;TZID=Europe/Berlin:20190705T170000
DTEND;TZID=Europe/Berlin:20190705T200000
DTSTAMP:20260421T223408
CREATED:20190604T122428Z
LAST-MODIFIED:20190604T122428Z
UID:157394-1562346000-1562356800@www.mucbook.de
SUMMARY:Dreimühlentage Design und Handwerk @ Dreimühlenviertel
DESCRIPTION:Nach dem großen Erfolg der letzten Jahre ist es Anfang Juli wieder so weit: Über 30 Künstler\,\nDesigner und Manufakturen des Münchner Dreimühlenviertels öffnen von Freitag bis Sonntag\nihre Ateliers\, Werkstätten und Läden und geben Einblicke in ihre Arbeit. Bei einem Spaziergang\ndurch das idyllische Viertel können Besucher hier abseits des Mainstream lokal gefertigte\nProdukte und Kunst entdecken und erwerben.\n\nEs ist die perfekte Mischung für ein sommerliches Wochenende: Ein authentisch gebliebenes\nMünchner Stadtviertel entdecken\, Einblicke in selten wahrgenommene Arbeitsstätten\nerhalten\, Geschenke oder Schönes für sich selber finden und in einem der vielen Cafés\,\nRestaurants und Eisdielen eine kulinarische Pause einlegen.\n\nAuch die nahe gelegene Alte Utting\, das umfunktionierte Schiff auf der Eisenbahnbrücke über der Lagerhausstraße\, hat kulinarisch und optisch bis in die Nacht viel zu bieten und ist auf jeden Fall einen Abstecher wert.
URL:https://www.mucbook.de/event/dreimuehlentage-design-und-handwerk-dreimuehlenviertel/
LOCATION:Dreimühlenviertel\, München\, Bayern\, 80469\, Deutschland
CATEGORIES:Kunst,Messe
END:VEVENT
END:VCALENDAR