BEGIN:VCALENDAR
VERSION:2.0
PRODID:-//MUCBOOK - ECPv5.14.0.4//NONSGML v1.0//EN
CALSCALE:GREGORIAN
METHOD:PUBLISH
X-WR-CALNAME:MUCBOOK
X-ORIGINAL-URL:https://www.mucbook.de
X-WR-CALDESC:Veranstaltungen für MUCBOOK
BEGIN:VTIMEZONE
TZID:Europe/Berlin
BEGIN:DAYLIGHT
TZOFFSETFROM:+0100
TZOFFSETTO:+0200
TZNAME:CEST
DTSTART:20190331T010000
END:DAYLIGHT
BEGIN:STANDARD
TZOFFSETFROM:+0200
TZOFFSETTO:+0100
TZNAME:CET
DTSTART:20191027T010000
END:STANDARD
END:VTIMEZONE
BEGIN:VEVENT
DTSTART;TZID=Europe/Berlin:20190604T180000
DTEND;TZID=Europe/Berlin:20190604T220000
DTSTAMP:20260419T155918
CREATED:20190116T101654Z
LAST-MODIFIED:20190117T153004Z
UID:146117-1559671200-1559685600@www.mucbook.de
SUMMARY:Eine unendliche Geschichte: cinematographisch-musikalische Lesereihe @ Bahnwärter Thiel
DESCRIPTION:Der Bahnwärter schreibt Geschichte — in zwölf Kapiteln. Und gemeinsam mit Euch Allen.\nFür ein Jahr laden die Literatur-Veredler von Konvolut jeden Monat zur musiklisch-cinematographischen Lesereise in den\nBahnwärter… und mitten hinein ins Unbekannte. Denn diese Reihe ist ein Experiment in zwei Teilen. \nAuf den Punkt gebracht: Im ersten Teil des Abends bleibt Alles noch beim Alten\, mit neuen Geschichten bekannter Autoren\,\nkurz: Lesungen\, wie sie im Buche stehen\, verziert mit Live—Soundtracks und interaktiven Videoprojektionen. \nIm zweiten Teil des Abends werden die bekannten Gleise verlassen\, im Bahnwörter kommt das Publikum zum Zug: ihre\nIdeen\, Träume\, Fantasien… schmutzig\, schön\, verstörend\, all das und mehr. Denn: das Konvolut will\, brandtgefährlich\, mehr\nDemokratie wagen… und einen kollektiven Fortsetzungsroman schreiben. Monat für Monat werden die Gäste betragt\, wie\nes weiter gehen soll\, in der unendlichen Geschichte\, es soll diskutiert und um Worte gerungen werden. Aus dieser\nMaterialsammlung entsteht in den folgenden vier Wochen jeweils ein neues Kapitel — das bei der nächsten Lesung\nvorgetragen Wird. \nWann: 05.02.2019 – Einlass 18:00 Uhr\, Beginn 19:00 Uhr
URL:https://www.mucbook.de/event/eine-unendliche-geschichte-cinematographisch-musikalische-lesereihe-bahnwaerter-thiel-4/
LOCATION:Bahnwärter Thiel
CATEGORIES:Festival,Lesung,Live
END:VEVENT
END:VCALENDAR