BEGIN:VCALENDAR
VERSION:2.0
PRODID:-//MUCBOOK - ECPv5.14.0.4//NONSGML v1.0//EN
CALSCALE:GREGORIAN
METHOD:PUBLISH
X-WR-CALNAME:MUCBOOK
X-ORIGINAL-URL:https://www.mucbook.de
X-WR-CALDESC:Veranstaltungen für MUCBOOK
BEGIN:VTIMEZONE
TZID:Europe/Berlin
BEGIN:DAYLIGHT
TZOFFSETFROM:+0100
TZOFFSETTO:+0200
TZNAME:CEST
DTSTART:20210328T010000
END:DAYLIGHT
BEGIN:STANDARD
TZOFFSETFROM:+0200
TZOFFSETTO:+0100
TZNAME:CET
DTSTART:20211031T010000
END:STANDARD
END:VTIMEZONE
BEGIN:VEVENT
DTSTART;TZID=Europe/Berlin:20211007T190000
DTEND;TZID=Europe/Berlin:20211007T190000
DTSTAMP:20260425T140322
CREATED:20211003T100622Z
LAST-MODIFIED:20211003T101145Z
UID:205282-1633633200-1633633200@www.mucbook.de
SUMMARY:Eröffnung Underdox @Filmmuseum München
DESCRIPTION:Das 16. UNDERDOX Filmfestival eröffnet dieses Jahr mit LANDSCAPES OF RESISTANCE von Marta Popivoda. Ein Werk entlang der Biographie der 97-jährigen antifaschistischen Partisanin Sonja\, von der Zeit des Nationalsozialismus bis heute.\n\n\n\nZum Auftakt zeigen wir außerdem DISTANCE FILM von Siegfried A. Fruhauf\, der den diesjährigen UNDERDOX-Trailer geliefert hat. Wir feiern die fragile Sinnlichkeit des filmischen Mediums so\, wie es der Gegenwart angemessen ist.\n\nZu Gast: Marta Popivoda & Siegfried A. Fruhauf\nKarten gibt es hier: https://underdox-festival.de/de/tickets/\n\n\n\nFilmstill: LANDSCAPES OF RESISTANCE | Serbien 2021 | R: Marta Popivoda19
URL:https://www.mucbook.de/event/eroeffnung-underdox-filmmuseum-muenchen/
LOCATION:Filmmuseum München\, Sankt-Jakobs-Platz 1\, München\, 80331\, Deutschland
CATEGORIES:Film,Kino
ATTACH;FMTTYPE=image/jpeg:https://www.mucbook.de/wp-content/uploads/2021/10/underdox.jpeg
END:VEVENT
END:VCALENDAR