BEGIN:VCALENDAR
VERSION:2.0
PRODID:-//MUCBOOK - ECPv5.14.0.4//NONSGML v1.0//EN
CALSCALE:GREGORIAN
METHOD:PUBLISH
X-WR-CALNAME:MUCBOOK
X-ORIGINAL-URL:https://www.mucbook.de
X-WR-CALDESC:Veranstaltungen für MUCBOOK
BEGIN:VTIMEZONE
TZID:Europe/Berlin
BEGIN:DAYLIGHT
TZOFFSETFROM:+0100
TZOFFSETTO:+0200
TZNAME:CEST
DTSTART:20170326T010000
END:DAYLIGHT
BEGIN:STANDARD
TZOFFSETFROM:+0200
TZOFFSETTO:+0100
TZNAME:CET
DTSTART:20171029T010000
END:STANDARD
END:VTIMEZONE
BEGIN:VEVENT
DTSTART;TZID=Europe/Berlin:20170204T110000
DTEND;TZID=Europe/Berlin:20170204T200000
DTSTAMP:20260424T161530
CREATED:20170201T111242Z
LAST-MODIFIED:20170627T092300Z
UID:102452-1486206000-1486238400@www.mucbook.de
SUMMARY:FLO**ZIRKUS // Indoor-Flohmarkt für Alle & Jeden @ Flostern
DESCRIPTION:3. FLO**ZIRKUS am Samstag ab 11:00 Uhr mit DJs\, heißen und kalten Getränken\, Kuriosem und Banalem. Garantiert kein Schnee\, Regen\, Kälte! Offen für Jede & Jeden!\nDer FLO**Zirkus findet danach jeden Samstag statt! Bitte am Kühlschrank vormerken!\nWie gehts? Einfach Tisch & gute Stimmung mitbringen\, Platz aussuchen\, Schätze präsentieren!\nFirst-come-first-serve-Prinzip! Also nicht trödeln! Am besten pro Teilnehmer*in nur ein Tisch\, damit für jeden ein Plätzchen bleibt!\n\n\nSolange Vorrat reicht\, können unsere Tische und Möbel mitbenutzt werden (ca. 8 Tische)\n\n\n\nWer Platten kaufen oder verkaufen will\, dem steht ein Plattenspieler zum Probehören zur Verfügung! Zwischendurch wird es immer wieder Plattenauktionen geben\, die so funktionieren: Von der zu verkaufenden Platte wird ein Song gespielt\, in dieser Zeit können Käufer dafür bieten\, am Ende des Lieds wechselt die Scheibe seinen Besitzer! Gibt es keinen Bieter\, muss der Verkäufer seine Platte zerstören! Ist so!\n\n\n\n\n\n\nSamstag 4.2.2017 und jeden weiteren Samstag!Beginn: 11 Uhr\nEnde: 18 Uhr\nEintritt frei!\nStandgebühr: 10\,- €\n\n\n\n 
URL:https://www.mucbook.de/event/flozirkus-indoor-flohmarkt-fuer-alle-jeden-flostern/
LOCATION:Flostern\, St. Martin Str. 2\, München\, 81541\, Deutschland
END:VEVENT
END:VCALENDAR