BEGIN:VCALENDAR
VERSION:2.0
PRODID:-//MUCBOOK - ECPv5.14.0.4//NONSGML v1.0//EN
CALSCALE:GREGORIAN
METHOD:PUBLISH
X-WR-CALNAME:MUCBOOK
X-ORIGINAL-URL:https://www.mucbook.de
X-WR-CALDESC:Veranstaltungen für MUCBOOK
BEGIN:VTIMEZONE
TZID:Europe/Berlin
BEGIN:DAYLIGHT
TZOFFSETFROM:+0100
TZOFFSETTO:+0200
TZNAME:CEST
DTSTART:20220327T010000
END:DAYLIGHT
BEGIN:STANDARD
TZOFFSETFROM:+0200
TZOFFSETTO:+0100
TZNAME:CET
DTSTART:20221030T010000
END:STANDARD
END:VTIMEZONE
BEGIN:VEVENT
DTSTART;VALUE=DATE:20220423
DTEND;VALUE=DATE:20220424
DTSTAMP:20260421T194632
CREATED:20220413T135444Z
LAST-MODIFIED:20220413T135511Z
UID:211456-1650672000-1650758399@www.mucbook.de
SUMMARY:Eröffnung Freeman Festival 2022 @ Sugar Mountain
DESCRIPTION:About the Event:\nDas Festivalthema 2022 ist Nachhaltigkeit in den darstellenden Künsten. \n“Wir stellen Fragen zu nachhaltigem Touring\, Produzieren und Klimawandel. Aber auch nach der Ausbildung junger Talente und der Zukunft des zeitgenössischen Zirkus in Deutschland und Europa.” \nWann & Wo\n\n\n23. Apr.\, 11:00 – 08. Mai\, 22:00 \nSugar Mountain Gelände in der Helfenrieder Straße 12\, \n81379 München \nTickets & Infos zum Festival\nInformationen zu Workshops\, Performances\, Open Stages und Panel Talks\, sowie den Tickets findet ihr hier.
URL:https://www.mucbook.de/event/freeman-festival-2022-sugar-mountain/
LOCATION:Sugar Mountain\, Helfenrieder Straße 12\, München\, Sendling\, Bayern\, 81379\, Deutschland
CATEGORIES:Festival,Zirkus
ORGANIZER;CN="PEPE%20Arts":MAILTO:info@pepearts.de
END:VEVENT
END:VCALENDAR