BEGIN:VCALENDAR
VERSION:2.0
PRODID:-//MUCBOOK - ECPv5.14.0.4//NONSGML v1.0//EN
CALSCALE:GREGORIAN
METHOD:PUBLISH
X-WR-CALNAME:MUCBOOK
X-ORIGINAL-URL:https://www.mucbook.de
X-WR-CALDESC:Veranstaltungen für MUCBOOK
BEGIN:VTIMEZONE
TZID:Europe/Berlin
BEGIN:DAYLIGHT
TZOFFSETFROM:+0100
TZOFFSETTO:+0200
TZNAME:CEST
DTSTART:20170326T010000
END:DAYLIGHT
BEGIN:STANDARD
TZOFFSETFROM:+0200
TZOFFSETTO:+0100
TZNAME:CET
DTSTART:20171029T010000
END:STANDARD
END:VTIMEZONE
BEGIN:VEVENT
DTSTART;TZID=Europe/Berlin:20170430T160000
DTEND;TZID=Europe/Berlin:20170430T235500
DTSTAMP:20260421T112416
CREATED:20170412T072642Z
LAST-MODIFIED:20170412T072642Z
UID:106469-1493568000-1493596500@www.mucbook.de
SUMMARY:FYAH FESTIVAL - Skank in den Mai! @ Feierwerk
DESCRIPTION:Am Sonntag\, den 30. April 2017 geht das FYAH FESTIVAL im Feierwerk in die erste Runde. Zum Auftakt der Reggae-Festivalsaison lädt der neue Event ein\, zu Modern Roots Reggae\, Conscious Reggae und Dancehall in den Mai zu tanzen. Auf drei Areas und zwei Bühnen bietet das FYAH FESTIVAL sechs echte Bandshows junger Reggae-Artists aus Jamaika\, Großbritannien und Süddeutschland.\n\nZur Einstimmung auf das Festival kann man sich hier schon einmal den offizielle Festival-Mix anhören:http://bit.ly/2nTyDYA
URL:https://www.mucbook.de/event/fyah-festival-skank-in-den-mai-feierwerk/
LOCATION:Kranhalle\, Hansastraße 39\, München\, 81373
CATEGORIES:Live,Musik
END:VEVENT
END:VCALENDAR