BEGIN:VCALENDAR
VERSION:2.0
PRODID:-//MUCBOOK - ECPv5.14.0.4//NONSGML v1.0//EN
CALSCALE:GREGORIAN
METHOD:PUBLISH
X-WR-CALNAME:MUCBOOK
X-ORIGINAL-URL:https://www.mucbook.de
X-WR-CALDESC:Veranstaltungen für MUCBOOK
BEGIN:VTIMEZONE
TZID:Europe/Berlin
BEGIN:DAYLIGHT
TZOFFSETFROM:+0100
TZOFFSETTO:+0200
TZNAME:CEST
DTSTART:20220327T010000
END:DAYLIGHT
BEGIN:STANDARD
TZOFFSETFROM:+0200
TZOFFSETTO:+0100
TZNAME:CET
DTSTART:20221030T010000
END:STANDARD
END:VTIMEZONE
BEGIN:VEVENT
DTSTART;TZID=Europe/Berlin:20220320T113000
DTEND;TZID=Europe/Berlin:20220320T153000
DTSTAMP:20260421T115643
CREATED:20220316T151849Z
LAST-MODIFIED:20220316T151849Z
UID:210501-1647775800-1647790200@www.mucbook.de
SUMMARY:G I N 'N' B R U N C H
DESCRIPTION:Ein Sonntag voller Aromen und kulinarischer Highlights. \nWas dich erwartet:\n• Gin Tasting\n• 5-Gänge Brunch Menu  @teubers.kitchen\n• Cocktailbegleitung \nWann? 20. März\, 11.30 – 15.30 Uhr\, ab 15.30 Get Together / Chillout Beats / Drinks / Shopping \nWo? Ligsalzstrasse 12\, 80339 München \nReservierung jetzt möglich.\nEmail: weare@monkspunks.de\nPN @monk.distillery \nWeitere Infos: \nInstagram \nWebsite \n 
URL:https://www.mucbook.de/event/g-i-n-n-b-r-u-n-c-h/
CATEGORIES:Lecker,Live
END:VEVENT
END:VCALENDAR