BEGIN:VCALENDAR
VERSION:2.0
PRODID:-//MUCBOOK - ECPv5.14.0.4//NONSGML v1.0//EN
CALSCALE:GREGORIAN
METHOD:PUBLISH
X-WR-CALNAME:MUCBOOK
X-ORIGINAL-URL:https://www.mucbook.de
X-WR-CALDESC:Veranstaltungen für MUCBOOK
BEGIN:VTIMEZONE
TZID:Europe/Berlin
BEGIN:DAYLIGHT
TZOFFSETFROM:+0100
TZOFFSETTO:+0200
TZNAME:CEST
DTSTART:20170326T010000
END:DAYLIGHT
BEGIN:STANDARD
TZOFFSETFROM:+0200
TZOFFSETTO:+0100
TZNAME:CET
DTSTART:20171029T010000
END:STANDARD
END:VTIMEZONE
BEGIN:VEVENT
DTSTART;TZID=Europe/Berlin:20170623T230000
DTEND;TZID=Europe/Berlin:20170623T233000
DTSTAMP:20260422T140026
CREATED:20170529T082319Z
LAST-MODIFIED:20170529T082319Z
UID:109470-1498258800-1498260600@www.mucbook.de
SUMMARY:Geh tanzen @ Ampere
DESCRIPTION:GEH TANZEN No2 // Ampere \n► Wir sind die ersehnte Abwechslung zur musikalisch vorherrschenden Monotonie in der Münchner Clubkultur! \nLINE UP____ \n// RAWNFUNKIE (Geh tanzen Squad/KREW)\n// DJ BOBBY EVS (Geh tanzen Squad)\n// SAMAN (MunichOpenMinded) \n+ Dance Performance by the RWAKKA’Z\, der wahrscheinlich geilsten Dance-Crew unserer Stadt!\n+ eine rauschende Tanzeinlage von den Girls von Munixx InnaMotion Dancerz\n______ \nGeh tanzen ist die Local-Revolution freier Musik!\nBest of Funk\, Soul\, Oldschool HipHop\, Afrobeats\, Latin\, Ragga\, Electro\, House\, World & Swing Music. \nHola!\nNach unserem wundervollen Kick Off im April sind wir wieder da\, um Euch die Hütte ordentlich einzuheizen und unsere geliebte Squad zum Tanz zu bitten! \nThats whatsup:\nKein Bock mehr in überfüllten Clubs den Kids beim “tanzen” zuzusehen\, zur Musik die du eigentlich gar nicht verstehst\, nur um das Gefühl zu haben\, auch draussen zu sein?\nKennste? Ja? Dann dürfte es dir ein Einfaches sein unser wunderbares Konzept zu verstehen.\nJeder Club und jede Veranstaltung bedient seine Musik\, sein Publikum und sein Image. Eine Abweichung in andere Genres scheint selten oder gar nie möglich zu sein!\nDa kommt ganz schnell die Frage auf\,\nwas machen mit den Leuten denen Image-Politur und Musikrichtung völlig latte sind? Was machen mit denjenigen\, die guten Sound hören und einfach nur das Tanzbein schwingen wollen?\nEs geht um das Gefühl guter Musik.\nKein bestimmtes Genre\, kein Ausschließen der Generation\, die die 30 schon überholt haben.\nEine Party für alle\, die wissen was es heisst mit ihrem Körper Vollgas zu geben\, ohne Rücksicht auf Verluste!\nUnd wenn irgendwer fragt was für Mucke bei uns läuft sag ihm einfach:\nIch geh tanzen! \nMANIFEST:\nGeh tanzen ist was es ist: einfach\, unkompliziert und einzigartig.\nEs heißt nicht\, zieh dich an\, wie sich alle anziehen\, es heißt nicht der Club-Norm die Stange halten. Bei Geh tanzen kann der Dresscode ruhig im Schrank bleiben und die Klub-Etikette aufs Klo getackert werden. Bei Geh tanzen packst du dein No-Go ein\, lässt es im Club von der Leine und hast mit ihm Spaß.\nAlso geh tanzen und lass die Gewohnheit\, das alte Faultier\, aus dem Käfig\, setz ihr neue Leute vor die neugierige Nase.\nGeh tanzen\, füttere deine Ohren mit feinster Sound-Kost\, folge deinen Hüften\, immer dem Tanzbein hinterher.\nGeh tanzen ist anders\, ist mit anderen tanzen gehen. \nVon unserem Partner von StreetLove Agency gibt es noch einen Infostand\, für alle Tanz-Interessierten! \nAMPERE (Muffatwerke) – Zellstr. 4\nStart:: 23 Uhr\nAK: 10 €\nAlles andere bleibt Überraschung. \n#gehtanzen #ubettermove
URL:https://www.mucbook.de/event/geh-tanzen-ampere/
CATEGORIES:Club,Party
END:VEVENT
END:VCALENDAR