BEGIN:VCALENDAR
VERSION:2.0
PRODID:-//MUCBOOK - ECPv5.14.0.4//NONSGML v1.0//EN
CALSCALE:GREGORIAN
METHOD:PUBLISH
X-WR-CALNAME:MUCBOOK
X-ORIGINAL-URL:https://www.mucbook.de
X-WR-CALDESC:Veranstaltungen für MUCBOOK
BEGIN:VTIMEZONE
TZID:Europe/Berlin
BEGIN:DAYLIGHT
TZOFFSETFROM:+0100
TZOFFSETTO:+0200
TZNAME:CEST
DTSTART:20170326T010000
END:DAYLIGHT
BEGIN:STANDARD
TZOFFSETFROM:+0200
TZOFFSETTO:+0100
TZNAME:CET
DTSTART:20171029T010000
END:STANDARD
END:VTIMEZONE
BEGIN:VEVENT
DTSTART;TZID=Europe/Berlin:20170910T000000
DTEND;TZID=Europe/Berlin:20170910T000000
DTSTAMP:20260422T123549
CREATED:20170908T082530Z
LAST-MODIFIED:20170908T082530Z
UID:117494-1505001600-1505001600@www.mucbook.de
SUMMARY:Give a Home. A global Music Community @ München
DESCRIPTION:+++ Anmeldung bis Sonntag\, 10. September!!! +++ \nMusiker\, Geflüchtete und Eingesessene kommen weltweit zusammen\, um das zu feiern\, was uns verbindet: die geteilte Liebe zu Musik… und das Bedüfnis nach Heimat. \nAm 20. September geben Musiker wie Ed Sheeran\, Kate Tempest oder William Fitzsimmons kleine Konzerte in ganz normalen Häusern rund um die Welt. Auch in München spielen vier Bands und Sänger Songs\, die ihnen ein Stück Heimat bedeuten. Ganz gewöhnliche Münchner öffnen ihre Wohnzimmer für einen Abend und beheimaten Künstler und Zuhörer. \n80% weltweit würden Flüchtlinge in ihrem eigenen Land willkommen heißen. Sei ein Teil dieser globalen Community!\nMelde Dich jetzt für die Ticketverlosung an!\nhttps://www.sofarsounds.com/comp/GiveAHomeMunich1 \nMit einer freiwilligen Spende kannst Du zusammen mit Amnesty für die Rechte derer einstehen\, die ihre Heimat verloren haben.\nKonzert\nMenschenrechte
URL:https://www.mucbook.de/event/give-a-home-a-global-music-community-muenchen/
LOCATION:München
CATEGORIES:Live,Musik
END:VEVENT
END:VCALENDAR