BEGIN:VCALENDAR
VERSION:2.0
PRODID:-//MUCBOOK - ECPv5.14.0.4//NONSGML v1.0//EN
CALSCALE:GREGORIAN
METHOD:PUBLISH
X-WR-CALNAME:MUCBOOK
X-ORIGINAL-URL:https://www.mucbook.de
X-WR-CALDESC:Veranstaltungen für MUCBOOK
BEGIN:VTIMEZONE
TZID:Europe/Berlin
BEGIN:DAYLIGHT
TZOFFSETFROM:+0100
TZOFFSETTO:+0200
TZNAME:CEST
DTSTART:20180325T010000
END:DAYLIGHT
BEGIN:STANDARD
TZOFFSETFROM:+0200
TZOFFSETTO:+0100
TZNAME:CET
DTSTART:20181028T010000
END:STANDARD
END:VTIMEZONE
BEGIN:VEVENT
DTSTART;VALUE=DATE:20181019
DTEND;VALUE=DATE:20181022
DTSTAMP:20260421T172702
CREATED:20180928T094544Z
LAST-MODIFIED:20180928T094544Z
UID:139133-1539907200-1540166399@www.mucbook.de
SUMMARY:GREENSTYLE MUC - Messe @ Haus der Kunst
DESCRIPTION:THE FIRST PUBLIC FESTIVAL FOR GREEN STYLE\n\n\nLess ist das neue more\, slow das neue fast und eco das neue cool. Bewusster Konsum kommt an. Nachhaltigkeit ist kein Trend. Nachhaltigkeit ist ein Lifestyle. GREENSTYLE | MUC ist das erste public festival für GREEN style\, das den Zeitgeist einfängt und (er)lebbar macht. Zur richtigen Zeit am perfekten Ort. It’s a happening! \nWann?  19. bis 21. Oktober 2018 (Programm) \nWo?       Haus der Kunst (Westflügel)\, Prinzregentenstraße 1\, München \nVorverkauf \n\nDass eco definitiv das neue cool ist\, beweisen diese nachhaltigen Labels mit ihren grandiosen Kollektionen\, mit ihren inspirierenden Konzepten und begeisternden Storys. Meet the makers auf der GREENSTYLE | MUC.\n\nA A K S\nakjumii\nANSOHO\nDAWN Denim\nDZAINO\nfitbuddha\nGoodsociety\nGreen Fashion Tours\nGreenGlam\nHIITU\nKARINFRAIDENRAIJ\nKnitted Love\nLana\nLANIUS\nLIVALIKE\nMaqu\nME & MAY\nMY DEAL WITH THE WORLD\nONE OF EACH\nraven collective\nRAAW by Trice\nReines du Monde\nSOOTH Munich\nSSE Sophia Schneider-Esleben\nStreet Philosophy\nTassel Tales\nTauko\nThe Colorful Crew\nVatter\nVAUDE\nWayda\nWTW – Women to Women\nYungcraft\n…
URL:https://www.mucbook.de/event/greenstyle-muc-messe-haus-der-kunst/
LOCATION:Haus der Kunst (Auditorium)\, Prinzregentenstraße 1\, München\, 80538
CATEGORIES:Märkte und Messen
END:VEVENT
END:VCALENDAR