BEGIN:VCALENDAR
VERSION:2.0
PRODID:-//MUCBOOK - ECPv5.14.0.4//NONSGML v1.0//EN
CALSCALE:GREGORIAN
METHOD:PUBLISH
X-WR-CALNAME:MUCBOOK
X-ORIGINAL-URL:https://www.mucbook.de
X-WR-CALDESC:Veranstaltungen für MUCBOOK
BEGIN:VTIMEZONE
TZID:Europe/Berlin
BEGIN:DAYLIGHT
TZOFFSETFROM:+0100
TZOFFSETTO:+0200
TZNAME:CEST
DTSTART:20210328T010000
END:DAYLIGHT
BEGIN:STANDARD
TZOFFSETFROM:+0200
TZOFFSETTO:+0100
TZNAME:CET
DTSTART:20211031T010000
END:STANDARD
END:VTIMEZONE
BEGIN:VEVENT
DTSTART;TZID=Europe/Berlin:20211001T180000
DTEND;TZID=Europe/Berlin:20211003T190000
DTSTAMP:20260419T143059
CREATED:20210929T145628Z
LAST-MODIFIED:20210929T145628Z
UID:205085-1633111200-1633287600@www.mucbook.de
SUMMARY:Open Westend @Gollierstraße @Am Gollierplatz
DESCRIPTION:Das OPEN WESTEND bietet drei Tage lang einen Einblick in das künstlerische Schaffen des Westends.\nBei der Veranstaltung handelt es sich um eine Initiative von Künstlerinnen und Künstlern\, die im Westend leben oder arbeiten. Die Organisation erfolgt ehrenamtlich. Für den Inhalt der einzelnen Abbildungen Beiträge und Seiten von Künstlern ist jeweils ausschließlich der Künstler selbst verantwortlich. \nDie offenen Ateliers im Münchner Westend finden heuer von Fr. 1.Okt. bis So. 3.Okt. 2021 statt.\nNähere Infos über alle teilnehmenden Künstler/innen rechtzeitig vor Beginn der Veranstaltung auf: www.openwestend.de \nIn aller Kürze: \nWas? OpenWestend \nWann? 01-03. Oktober 2021 \nWo? Gollierstraße
URL:https://www.mucbook.de/event/https-openwestend-de/
CATEGORIES:Ausstellung,Kunst
END:VEVENT
END:VCALENDAR