BEGIN:VCALENDAR
VERSION:2.0
PRODID:-//MUCBOOK - ECPv5.14.0.4//NONSGML v1.0//EN
CALSCALE:GREGORIAN
METHOD:PUBLISH
X-WR-CALNAME:MUCBOOK
X-ORIGINAL-URL:https://www.mucbook.de
X-WR-CALDESC:Veranstaltungen für MUCBOOK
BEGIN:VTIMEZONE
TZID:Europe/Berlin
BEGIN:DAYLIGHT
TZOFFSETFROM:+0100
TZOFFSETTO:+0200
TZNAME:CEST
DTSTART:20240331T010000
END:DAYLIGHT
BEGIN:STANDARD
TZOFFSETFROM:+0200
TZOFFSETTO:+0100
TZNAME:CET
DTSTART:20241027T010000
END:STANDARD
END:VTIMEZONE
BEGIN:VEVENT
DTSTART;TZID=Europe/Berlin:20241121T180000
DTEND;TZID=Europe/Berlin:20241121T210000
DTSTAMP:20260421T184949
CREATED:20241110T144040Z
LAST-MODIFIED:20241114T092506Z
UID:233301-1732212000-1732222800@www.mucbook.de
SUMMARY:Stadtteildialog im Münchner Norden
DESCRIPTION:In den Dialog kommen. Live dabei sein\, wenn fünf Planungsteams in einer Art offenem Wettbewerb Ideen für den Münchner Norden entwickeln. All das ist möglich bei der Ideenwerkstatt im Fat Cat und Münchner Norden vom 18. bis 23. November \n18 Uhr: Stadtteildialog im Münchner Norden\nStädtische Nelson-Mandela-Berufsoberschule\, Schleißheimer Straße 510\, 80933 München (U-Bahn Dülferstraße) \n\nHighlight: Vortrag Jan Knikker\, Büro MVRDV\, Rotterdam\, Mitglied des Gremiums\nInitiativen stellen sich und ihre Anliegen vor:\nChristian Hierneis\, Bund Naturschutz in Bayern\, e.V.\nStephan Reiß-Schmidt\, Bündnis Pro SEM\nStefan Uhl\, Bündnis München-Nord\nN.N.\, Heimatboden e.V.\nDie Planungsteams stellen den aktuellen Stand ihrer Ideen vor.\nPodiumsdiskussion: u.a. mit Vertreter*innen der Planungsteams\, Michael Bacherl\, Referat für Stadtplanung und Bauordnung\, Dr. Rainer Großmann Bezirksausschuss 24\, Vorsitzender und Jan Knikker\nModeration: Matthias Burgbacher\, Plan:Kooperativ\, Heidelberg\n\n21 Uhr: Ende im Münchner Norden \n 
URL:https://www.mucbook.de/event/ideenwerkstatt-zum-muenchner-norden-4/
LOCATION:Städtische Nelson-Mandela-Berufsoberschule\, Schleißheimer Straße 510\, München\, 80933
CATEGORIES:Aktion,Diskussion,Workshop
ATTACH;FMTTYPE=image/png:https://www.mucbook.de/wp-content/uploads/2024/11/Image_Hauptseite_1008x672_saveTheDate_Ideenwerkstatt_20240917_00.png
END:VEVENT
END:VCALENDAR