BEGIN:VCALENDAR
VERSION:2.0
PRODID:-//MUCBOOK - ECPv5.14.0.4//NONSGML v1.0//EN
CALSCALE:GREGORIAN
METHOD:PUBLISH
X-WR-CALNAME:MUCBOOK
X-ORIGINAL-URL:https://www.mucbook.de
X-WR-CALDESC:Veranstaltungen für MUCBOOK
BEGIN:VTIMEZONE
TZID:Europe/Berlin
BEGIN:DAYLIGHT
TZOFFSETFROM:+0100
TZOFFSETTO:+0200
TZNAME:CEST
DTSTART:20240331T010000
END:DAYLIGHT
BEGIN:STANDARD
TZOFFSETFROM:+0200
TZOFFSETTO:+0100
TZNAME:CET
DTSTART:20241027T010000
END:STANDARD
END:VTIMEZONE
BEGIN:VEVENT
DTSTART;TZID=Europe/Berlin:20241121T150000
DTEND;TZID=Europe/Berlin:20241121T180000
DTSTAMP:20260421T200235
CREATED:20241110T144235Z
LAST-MODIFIED:20241114T092413Z
UID:233304-1732201200-1732212000@www.mucbook.de
SUMMARY:Busrundfahrt durch den Münchner Norden
DESCRIPTION:In den Dialog kommen. Live dabei sein\, wenn fünf Planungsteams in einer Art offenem Wettbewerb Ideen für den Münchner Norden entwickeln. All das ist möglich bei der Ideenwerkstatt im Fat Cat und Münchner Norden vom 18. bis 23. November. \n15 Uhr: Busrundfahrt durch das Untersuchungsgebiet Münchner Norden\nAbfahrt am Fat Cat\, 16 Uhr Zustieg in Feldmoching\nHier geht’s zur Anmeldung  \n\nHighlight: Entdecken Sie den Münchner Norden zusammen mit Vertreter*innen der Planungsteams und des Bezirksausschusses Feldmoching-Hasenbergl.\n\n 
URL:https://www.mucbook.de/event/ideenwerkstatt-zum-muenchner-norden-5/
LOCATION:FatCat\, Rosenheimer Str. 5\, München\, 81667\, Deutschland
CATEGORIES:Aktion,Diskussion,Workshop
ATTACH;FMTTYPE=image/png:https://www.mucbook.de/wp-content/uploads/2024/11/Image_Hauptseite_1008x672_saveTheDate_Ideenwerkstatt_20240917_00.png
END:VEVENT
END:VCALENDAR