BEGIN:VCALENDAR
VERSION:2.0
PRODID:-//MUCBOOK - ECPv5.14.0.4//NONSGML v1.0//EN
CALSCALE:GREGORIAN
METHOD:PUBLISH
X-WR-CALNAME:MUCBOOK
X-ORIGINAL-URL:https://www.mucbook.de
X-WR-CALDESC:Veranstaltungen für MUCBOOK
BEGIN:VTIMEZONE
TZID:Europe/Berlin
BEGIN:DAYLIGHT
TZOFFSETFROM:+0100
TZOFFSETTO:+0200
TZNAME:CEST
DTSTART:20240331T010000
END:DAYLIGHT
BEGIN:STANDARD
TZOFFSETFROM:+0200
TZOFFSETTO:+0100
TZNAME:CET
DTSTART:20241027T010000
END:STANDARD
END:VTIMEZONE
BEGIN:VEVENT
DTSTART;TZID=Europe/Berlin:20241122T150000
DTEND;TZID=Europe/Berlin:20241122T230000
DTSTAMP:20260421T185543
CREATED:20241110T144449Z
LAST-MODIFIED:20241110T144449Z
UID:233308-1732287600-1732316400@www.mucbook.de
SUMMARY:Ideenwerkstatt zum Münchner Norden: Künstliche Intelligenz in der Planung
DESCRIPTION:In den Dialog kommen. Live dabei sein\, wenn fünf Planungsteams in einer Art offenem Wettbewerb Ideen für den Münchner Norden entwickeln. All das ist möglich bei der Ideenwerkstatt im Fat Cat und Münchner Norden vom 18. bis 23. November. \n\n\n\nab 15 Uhr: Künstliche Intelligenz in der Planung im Fat Cat\nRosenheimer Straße 5 (ehemaliger Gasteig) \nHighlight: Live-Visualisierung mit KI\, moderierte Diskussion\nDie KI-Experten Christoph Geiger und Clemens Lindner von Zaha Hadid Architects demonstrieren live die Möglichkeiten KI-gestützter Visualisierung. Anhand der Ideen der Planungsteams und des Inputs des Publikums werden mit Text-zu-Bild-Generatoren wie Midjourney oder StableDiffusion die Entwürfe visualisiert. \nab 15 Uhr: Offene Werkstätten im Fat Cat \n\nSchauen Sie den Planungsteams über die Schultern.\nBesuchen Sie die Infostände zum Münchner Norden und zum neuen Stadtentwicklungsplan.\n\n18.45 Uhr: Vorstellung der Tagesergebnisse im Fat Cat \n\nDie Planungsteams reflektieren gemeinsam mit dem Publikum und dem Moderator Matthias Burgbacher den Tag\n\n19.30 Uhr: Präsentation und Diskussion der KI-Entwürfe im Fat Cat \n\nDiskussion: Welchen Einfluss hat der Input des Publikums auf die Entwürfe der Planungsteams? Inwieweit verkürzen KI-erzeugte Bilder die Diskussion zwischen Öffentlichkeit und Planung durch ihre unmittelbare Anpassbarkeit. Können sie die Entwurfsarbeit verkürzen?\nMit Christoph Geiger und Clemens Lindner von Zaha Hadid Architects\, London\n\nab 21 Uhr: Bud Spenzer Heart Chor und DJ im Fat Cat \n23 Uhr: Ende \n\n\n\n 
URL:https://www.mucbook.de/event/ideenwerkstatt-zum-muenchner-norden-kuenstliche-intelligenz-in-der-planung/
LOCATION:FatCat\, Rosenheimer Str. 5\, München\, 81667\, Deutschland
CATEGORIES:Aktion,Diskussion,Workshop
ATTACH;FMTTYPE=image/png:https://www.mucbook.de/wp-content/uploads/2024/11/Image_Hauptseite_1008x672_saveTheDate_Ideenwerkstatt_20240917_00.png
END:VEVENT
END:VCALENDAR