BEGIN:VCALENDAR
VERSION:2.0
PRODID:-//MUCBOOK - ECPv5.14.0.4//NONSGML v1.0//EN
CALSCALE:GREGORIAN
METHOD:PUBLISH
X-WR-CALNAME:MUCBOOK
X-ORIGINAL-URL:https://www.mucbook.de
X-WR-CALDESC:Veranstaltungen für MUCBOOK
BEGIN:VTIMEZONE
TZID:Europe/Berlin
BEGIN:DAYLIGHT
TZOFFSETFROM:+0100
TZOFFSETTO:+0200
TZNAME:CEST
DTSTART:20210328T010000
END:DAYLIGHT
BEGIN:STANDARD
TZOFFSETFROM:+0200
TZOFFSETTO:+0100
TZNAME:CET
DTSTART:20211031T010000
END:STANDARD
END:VTIMEZONE
BEGIN:VEVENT
DTSTART;TZID=Europe/Berlin:20211013T200000
DTEND;TZID=Europe/Berlin:20211013T220000
DTSTAMP:20260419T154526
CREATED:20210928T120747Z
LAST-MODIFIED:20210928T120747Z
UID:204819-1634155200-1634162400@www.mucbook.de
SUMMARY:Ingrid Berger Myhre\, Lasse Passage „Panflutes and Paperwork“ @ Schwere Reiter
DESCRIPTION:Ingrid Berger Myhre ist eine norwegische Choreografin und Performerin\, die derzeit in Brüssel lebt. Sprache und Semiotik sind zentrale Elemente ihrer künstlerischen Arbeit. Sie beschäftigt sich mit der Frage\, wie wir Tanz lesen\, insbesondere im Kontext des Theaters. Ihre differenzierte Sicht auf den „Tanz“ drückt sie in ihren unprätentiösen und humorvollen Performances aus. Der Komponist und Tonkünstler Lasse Passage hat sich in den letzten fünf Jahren mit seinem innovativen Kompositionsansatz und seiner Neugier auf den performativen Aspekt von Live-Musik einen Namen in der norwegischen Performance-Kunstszene gemacht. \n  \nWas bedeutet eigentlich „Tanzen zur Musik“? Und wie entsteht Musik für Tanz? In ihrem Duett „Panflutes and Paperwork“ untersuchen Ingrid Berger Myhre und Lasse Passage spielerisch die Beziehungen zwischen Tanz und Musik\, indem sie Partituren als Mittel nutzen\, die Struktur über das Handwerk\, die Methode über den Ausdruck zu stellen. Der Titel ihres Duos spielt auf den Kontrast zwischen nass und trocken an: Panflöten sind verspielt und leidenschaftlich\, Papierkram hingegen bezieht sich auf die Notation und klingt bürokratisch. Aus den Spannungen zwischen diesen Zuständen und mit den beiden Instrumenten\, die ihnen zur Verfügung stehen\, erfinden Berger Myhre und Passage Spiele\, die ihre Regeln neu verhandeln. \n13. & 14. Oktober 2021 \n20.00 h \nSchwere Reiter \nVorstellung im Rahmen der Gastspielreihe ACCESS TO DANCE depARTures – Unique Dance and Performance from Norway\, 4. – 17. Oktober 2021. \nWeitere Infos und Tickets: www.jointadventures.net
URL:https://www.mucbook.de/event/ingrid-berger-myhre-lasse-passage-panflutes-and-paperwork-schwere-reiter/
LOCATION:schwere reiter\, Dachauerstraße 114\, München\, 80636
CATEGORIES:Live,Tanz
END:VEVENT
END:VCALENDAR