BEGIN:VCALENDAR
VERSION:2.0
PRODID:-//MUCBOOK - ECPv5.14.0.4//NONSGML v1.0//EN
CALSCALE:GREGORIAN
METHOD:PUBLISH
X-WR-CALNAME:MUCBOOK
X-ORIGINAL-URL:https://www.mucbook.de
X-WR-CALDESC:Veranstaltungen für MUCBOOK
BEGIN:VTIMEZONE
TZID:Europe/Berlin
BEGIN:DAYLIGHT
TZOFFSETFROM:+0100
TZOFFSETTO:+0200
TZNAME:CEST
DTSTART:20190331T010000
END:DAYLIGHT
BEGIN:STANDARD
TZOFFSETFROM:+0200
TZOFFSETTO:+0100
TZNAME:CET
DTSTART:20191027T010000
END:STANDARD
END:VTIMEZONE
BEGIN:VEVENT
DTSTART;TZID=Europe/Berlin:20190422T180000
DTEND;TZID=Europe/Berlin:20190422T210000
DTSTAMP:20260424T175605
CREATED:20190408T141205Z
LAST-MODIFIED:20190408T141205Z
UID:152446-1555956000-1555966800@www.mucbook.de
SUMMARY:Inklings 2019 @ Das Provisorium
DESCRIPTION:Siri Berlin lebt und arbeitet in Berlin. Aktuell widmet sie sich im Schwerpunkt der Malerei. Manchmal macht sie aber auch Musik\, schreibt Texte\, oder auch tragisch-poetische Kabarett-Shows. Manchmal sogar Poesie. \nIm Mittelpunkt ihrer Arbeit steht zur Zeit das Projekt “100 Strangers. The art of getting to know someone“. Siri Berlin triff 100 Fremde aus aller Welt und stellt die Fragen: “Wie begegnen wir uns heute? Wir präsent sind wir\, wenn wir uns begegnen?” In den 4 Stunden\, die die Künstlerin mit jeder fremden Person verbringt\, lernen sie sich kennen\, essen und trinken sie gemeinsam und Siri Berlin zeichnet ein Portrait ihres Besuchs. Das Projekt ist für 24 Monate geplant. (www.100strangers.eu) \nSiri Berlin ist vom Medium Tusche in jeglicher Form begeistert. Die Künstlerin experimentiert gerne und zeichnet auch schon mal mit ungekochten Spaghetti. \nSiri Berlin bewundert die Arbeiten von William Kentrige\, ist in Egon Schiele verliebt\, und ja\, sie mag auch manche Arbeiten vorn Klimt. Zuletzt sie gibt die wilde Hoffnung nicht auf\, eines Tages so begabt zu sein wie Picasso und Rembrandt zusammen. \nSiri Berlin arbeitet vor allem figürlich und ihr Thema sind Menschen\, oder was die Künstlerin als deren Essenz sieht. \nMit ihrer Kunst möchte sie inspirieren. Dazu\, völlig man selbst zu sein und das Leben vollumfassend zu leben. \nDie ausgestellten Zeichnungen sind „Snapshots“ von Siri Berlins geliebten Aufenthalten in Cafés oder Ausstellungen in Berlin oder Stockholm sowie von Konzerten oder Abenden\, die sie im Atelier eines befreundeten Künstlers mit Aktzeichnen verbringt. (Medium: Ink-Brushpen und Aquarellfarben auf Aquarellpapier). Die Arbeiten sind eine Kombination aus den Techniken OneLineDrawings\, Blindem Zeichnen und dem spielerischen Umgang mit Linien und Farben. Die „Wortcollagen“ sind gedankliche Schnappschüsse\, die sich fast wie von selbst zusammenfügen\, wenn die Worte erst einmal ausgebreitet vor ihr liegen. \nwww.siriberlin.de\nhttps://www.instagram.com/siriberlin_drawings\nhttps://www.facebook.com/siriberlinart/
URL:https://www.mucbook.de/event/inklings-2019-das-provisorium/
LOCATION:Das Provisorium – Kunstbar und Lesesaal\, Lindwurmstraße 37\, München\, Bayern\, 80337\, Deutschland
CATEGORIES:Ausstellung
END:VEVENT
END:VCALENDAR