BEGIN:VCALENDAR
VERSION:2.0
PRODID:-//MUCBOOK - ECPv5.14.0.4//NONSGML v1.0//EN
CALSCALE:GREGORIAN
METHOD:PUBLISH
X-WR-CALNAME:MUCBOOK
X-ORIGINAL-URL:https://www.mucbook.de
X-WR-CALDESC:Veranstaltungen für MUCBOOK
BEGIN:VTIMEZONE
TZID:Europe/Berlin
BEGIN:DAYLIGHT
TZOFFSETFROM:+0100
TZOFFSETTO:+0200
TZNAME:CEST
DTSTART:20180325T010000
END:DAYLIGHT
BEGIN:STANDARD
TZOFFSETFROM:+0200
TZOFFSETTO:+0100
TZNAME:CET
DTSTART:20181028T010000
END:STANDARD
END:VTIMEZONE
BEGIN:VEVENT
DTSTART;TZID=Europe/Berlin:20180427T230000
DTEND;TZID=Europe/Berlin:20180427T233000
DTSTAMP:20260422T021414
CREATED:20180412T140157Z
LAST-MODIFIED:20180412T140157Z
UID:129634-1524870000-1524871800@www.mucbook.de
SUMMARY:IWW meets Marry Klein @ Harry Klein
DESCRIPTION:+++ IWW Freunde aufgepasst! Unter folgendem Link könnt Ihr Euch auf die IWW Friendslist schreiben und zahlt somit nur 5 EUR Eintritt (bis 1 Uhr): https://goo.gl/forms/ts1Aj6BPeme0NR2u1 +++ \nAlienata\nKillekill | Valencia \nClara Cuvé\nBerlin \nMarcella\nMMA | Suxul | Ingolstadt \nvisuals by VJ Sicovaja (IWW\, München) \nAuch dieses Jahr ist IWW wieder Teil von Marry Klein. Und auch dieses Jahr wartet dieser besondere Monat mit einem besonderen IWW-Programm auf Euch. Nachdem wir bei unserer ersten Marry Klein Helena Hauff eingeladen hatten\, haben wir dieses Jahr eine Künstlerin\, die zumindest an diese erinnert: ALIENATA des Berliner Hype-Labels Killekill. Die gebürtige Spanierin ist eine Meisterin der Genre-übergreifenden Sets und mischt neben House & Techno auch gerne mal breakigere Nummern sowie Electronica mit ein.\nDoch damit nicht genug – auch CLARA CUVÉ\, die sich gerade durch die Clubs Europas spielt sowie MMA Resident MARCELLA sind mit von der Partie und runden den Abend somit gebührend ab.\nAn den Lichtschaltern unser Haus-VJ SICOVAJA für die visuelle Untermahlung.\nHungry for the female power!
URL:https://www.mucbook.de/event/iww-meets-marry-klein-harry-klein/
LOCATION:Harry Klein
ORGANIZER;CN="Harry%20Klein":MAILTO:info@harrykleinclub.de
END:VEVENT
END:VCALENDAR