BEGIN:VCALENDAR
VERSION:2.0
PRODID:-//MUCBOOK - ECPv5.14.0.4//NONSGML v1.0//EN
CALSCALE:GREGORIAN
METHOD:PUBLISH
X-WR-CALNAME:MUCBOOK
X-ORIGINAL-URL:https://www.mucbook.de
X-WR-CALDESC:Veranstaltungen für MUCBOOK
BEGIN:VTIMEZONE
TZID:Europe/Berlin
BEGIN:DAYLIGHT
TZOFFSETFROM:+0100
TZOFFSETTO:+0200
TZNAME:CEST
DTSTART:20180325T010000
END:DAYLIGHT
BEGIN:STANDARD
TZOFFSETFROM:+0200
TZOFFSETTO:+0100
TZNAME:CET
DTSTART:20181028T010000
END:STANDARD
END:VTIMEZONE
BEGIN:VEVENT
DTSTART;TZID=Europe/Berlin:20180314T200000
DTEND;TZID=Europe/Berlin:20180314T230000
DTSTAMP:20260424T103842
CREATED:20180209T113408Z
LAST-MODIFIED:20180209T113408Z
UID:126145-1521057600-1521068400@www.mucbook.de
SUMMARY:Jason Bartsch\, Lampe & Jakob Mayer @ Heppel & Ettlich
DESCRIPTION:Jason Bartsch \n„Das ist der deutsche Bo Burnham!“\n„Eine Mischung aus PeterLicht und Bilderbuch. Seltsam und äußerst gut!“ \nJason Bartsch\, Moderator\, Musiker und Slam-Poet\, tourt mit seinem ersten Programm durch den deutschsprachigen Raum. Sein Debütalbum „4478 Bochum“ erschien im Herbst 2017\, seine Musikvideos haben Zigtausend Aufrufe. Kaum jemand vereint so viel Popkultur in sich: Er schreibt außerdem für Musikmagazine wie die Spex\, konzipiert Live-Hörspiele und hat bestimmt schon zwei schlechte Romane in der Schublade. Der mehrfache Finalist deutschsprachiger Poetry Slam-Meisterschaften bringt alles mit: Seine CDs\, brachiale Pointen und Bock auf Twerk. \nLampe \nDie Musikgruppe LAMPE um Liederschreiber Tilman Claas schrammelt sich seit März 2016 erfolgreich durch die Clubs und über die Bretter der Republik. Auf zahlreichen Konzerten u.a. als Vorband von Die Sterne\, Albrecht Schrader\, Kapelle Petra\, aber auch Festivals\, wie z.B. C/O POP\, Hanse Song Festival oder Sound of the Forest\, wurden sie ihrem Ruf als Geheimtipp meistens gerecht. Selbst Linus Volkmann schreibt im Kaput – Magazin für Insolvenz und Pop\, dass sich mit LAMPE wohl eine neue Lieblingsband aufgetan habe. \nDie sonst eher langsam agierende Plattenindustrie ist mittler- weile übrigens auch schon hellhörig geworden. So kam es\, dass die netten Damen und Herren vom Label Staatsakt bei LAMPE anriefen\, um zu fragen\, ob sie den bisher völlig unterschätzen LAMPE Hit „Morgen Fang ich an“ auf die neue Compilation „Keine Bewegung 2“ drauf compilieren könnten. Nach einigen Freudensprüngen sagte LAMPE schließlich zu. Die Scheibe er- scheint am 03. November 2017 !!! Neben LAMPE und vielen anderen Bands sind u.a. Schnipo Schranke\, Isolation Berlin\, Odd Couple und Gurr vertreten. \nJetzt fehlt eigentlich nur noch das Debut Album. Die Aufnahmen hierzu sind in vollem Gange und wenn alles so läuft\, wie es zur Zeit läuft\, kann im Sommer 2018 veröffentlicht werden. Die deutschsprachige Musikszene braucht eine LAMPE. \nJakob Mayer \nHauptberuflich Tausendsassa und Hallodri\, trägt er auf der Bühne ausschließlich farbverschmierte Jogginghosen und ist auch sonst eher der legere Typ. Seine Songs oszillieren zwischen wohltuender Entspannung und waschechtem Wahnsinn\, zwischen Sanddornduschen und fetzigen Mitsing-Parts\, immer auf den Spuren seiner großen Vorbilder: Gandhi und The Big Lebowski. Für Melancholie findet er an den Tasten eines Pianos Raum. Bei den Ansagen ist nicht vorauszusehen\, ob er einschläft oder wegkippt\, doch legt er los\, erzeugt er an der Loopstation mit E-Gitarre\, Kinder-Keyboard und Beat-Box bewaffnet einen schiebenden Sound. Er animiert das Publikum erst zum Stirnrunzeln\, dann zum Mitsingen und am Ende zum beglückten Dauergrinsen. \n**************************\nEinlass: 19 Uhr\nVVK: 7€\nAK: 10€
URL:https://www.mucbook.de/event/jason-bartsch-lampe-jakob-mayer-heppel-ettlich/
LOCATION:Heppel und Ettlich\, Feilitzschstr. 12\, München\, 80802\, Deutschland
CATEGORIES:Lesung,Live,Theater
END:VEVENT
END:VCALENDAR