BEGIN:VCALENDAR
VERSION:2.0
PRODID:-//MUCBOOK - ECPv5.14.0.4//NONSGML v1.0//EN
CALSCALE:GREGORIAN
METHOD:PUBLISH
X-WR-CALNAME:MUCBOOK
X-ORIGINAL-URL:https://www.mucbook.de
X-WR-CALDESC:Veranstaltungen für MUCBOOK
BEGIN:VTIMEZONE
TZID:Europe/Berlin
BEGIN:DAYLIGHT
TZOFFSETFROM:+0100
TZOFFSETTO:+0200
TZNAME:CEST
DTSTART:20170326T010000
END:DAYLIGHT
BEGIN:STANDARD
TZOFFSETFROM:+0200
TZOFFSETTO:+0100
TZNAME:CET
DTSTART:20171029T010000
END:STANDARD
END:VTIMEZONE
BEGIN:VEVENT
DTSTART;TZID=Europe/Berlin:20171120T193000
DTEND;TZID=Europe/Berlin:20171120T213000
DTSTAMP:20260419T192739
CREATED:20171107T150303Z
LAST-MODIFIED:20171107T150304Z
UID:120893-1511206200-1511213400@www.mucbook.de
SUMMARY:Kalte Heimat @ Bellevue di Monaco
DESCRIPTION:Ein Theaterprojekt über das Angekommensein von AKA:NYX / Dorothea Schroeder.\n„Wie soll denn das gehen?“ – schon 1945 nach Kriegsende fragte man sich das. Als in Bayern Bürgermeister über Nacht 500 Flüchtlinge und Vertriebene zugewiesen bekamen\, als keine Feld- betten zur Verfügung standen\, als tausende Flüchtlinge an der Oder campierten…\nDas dokumentarische Theaterprojekt „Kalte Heimat – Was heißt woher?“ verknüpft die alten Geschichten von Vertreibung und Verlust mit dem Neuen\, Unbekannten\, das unsere Gesellschaft heute spürbar in Aufregung versetzt. Vertriebene\, ehemals Geflüchtete und Spätaussiedler erzählen vom Ankommen in Deutschland und treffen auf Menschen\, die neu hier sind und von denen viele nicht wissen\, ob sie bleiben dürfen.\nWie hat sich die Gesellschaft seit der Nachkriegszeit verändert? Wie wurden bzw. werden Fremde in unserer Gesellschaft aufgenommen? Und was ist das Andere\, Andersartige\, Befremdliche\, Verwunderliche an der Situation heute\, als 2015 an nur einem Tag 12.000 Menschen alleine in München ankamen?\nDas dokumentarische Theaterprojekt »Kalte Heimat – Was heißt woher?« verknüpft die alten Geschichten von Vertreibung und Verlust mit dem Neuen\, Unbekannten\, das unsere Gesellschaft heute spürbar in Aufregung versetzt. Vertriebene\, ehemals Geflüchtete und Spätaussiedler erzählen vom Ankommen in Deutschland und treffen auf Menschen\, die neu hier sind und von denen viele nicht wissen\, ob sie bleiben dürfen. \nEintritt: 12€\, 8€ (ermäßigt)
URL:https://www.mucbook.de/event/kalte-heimat-bellevue-di-monaco/
LOCATION:Bellevue di Monaco\, Max-Joseph-Platz\, München\, Deutschland
CATEGORIES:Kunst,Theater
END:VEVENT
END:VCALENDAR