BEGIN:VCALENDAR
VERSION:2.0
PRODID:-//MUCBOOK - ECPv5.14.0.4//NONSGML v1.0//EN
CALSCALE:GREGORIAN
METHOD:PUBLISH
X-WR-CALNAME:MUCBOOK
X-ORIGINAL-URL:https://www.mucbook.de
X-WR-CALDESC:Veranstaltungen für MUCBOOK
BEGIN:VTIMEZONE
TZID:Europe/Berlin
BEGIN:DAYLIGHT
TZOFFSETFROM:+0100
TZOFFSETTO:+0200
TZNAME:CEST
DTSTART:20200329T010000
END:DAYLIGHT
BEGIN:STANDARD
TZOFFSETFROM:+0200
TZOFFSETTO:+0100
TZNAME:CET
DTSTART:20201025T010000
END:STANDARD
END:VTIMEZONE
BEGIN:VEVENT
DTSTART;VALUE=DATE:20201027
DTEND;VALUE=DATE:20201102
DTSTAMP:20260419T194034
CREATED:20201022T122713Z
LAST-MODIFIED:20201022T122713Z
UID:193672-1603756800-1604275199@www.mucbook.de
SUMMARY:KINO DER KUNST
DESCRIPTION:KINO DER KUNST ist eine weltweit einzigartige Mischung aus Filmfestival und Kunstausstellung. Die vierte Ausgabe findet 2020 in Münchner Kinos und Museen statt. Gezeigt werden in einem hochdotierten internationalen Wettbewerb herausragende filmische Werke von bildenden Künstler*innen. Sonderprogramme\, Künstlergespräche und Multi-Kanal-Installationen ergänzen das Filmprogramm. KINO DER KUNST untersucht das Verhältnis von bildender Kunst und Film. Programmatischer Fokus ist der künstlerische Umgang mit Fiktion und Erzählung. Präsentiert werden filmische Werke\, in denen Künstler*innen formale Innovation und eine hoch ästhetische Bildsprache anwenden\, ohne die inhaltlich ernstzunehmenden Themen unserer Zeit aus den Augen zu verlieren. Das Thema von KINO DER KUNST 20 lautet „Forbidden Beauty – Verbotene Schönheit“.
URL:https://www.mucbook.de/event/kino-der-kunst/
CATEGORIES:Ausstellung
ATTACH;FMTTYPE=image/jpeg:https://www.mucbook.de/wp-content/uploads/2020/10/Bildschirmfoto-2020-10-22-um-14.24.52.jpg
ORGANIZER;CN="Kino%20der%20Kunst":MAILTO:info@kinoderkunst.de
END:VEVENT
END:VCALENDAR