BEGIN:VCALENDAR
VERSION:2.0
PRODID:-//MUCBOOK - ECPv5.14.0.4//NONSGML v1.0//EN
CALSCALE:GREGORIAN
METHOD:PUBLISH
X-WR-CALNAME:MUCBOOK
X-ORIGINAL-URL:https://www.mucbook.de
X-WR-CALDESC:Veranstaltungen für MUCBOOK
BEGIN:VTIMEZONE
TZID:Europe/Berlin
BEGIN:DAYLIGHT
TZOFFSETFROM:+0100
TZOFFSETTO:+0200
TZNAME:CEST
DTSTART:20230326T010000
END:DAYLIGHT
BEGIN:STANDARD
TZOFFSETFROM:+0200
TZOFFSETTO:+0100
TZNAME:CET
DTSTART:20231029T010000
END:STANDARD
END:VTIMEZONE
BEGIN:VEVENT
DTSTART;TZID=Europe/Berlin:20231202T100000
DTEND;TZID=Europe/Berlin:20231202T150000
DTSTAMP:20260422T182342
CREATED:20231113T085510Z
LAST-MODIFIED:20231113T085510Z
UID:226511-1701511200-1701529200@www.mucbook.de
SUMMARY:Kostümverkauf @ Gärtnerplatztheater
DESCRIPTION:Um im Fundus Platz für Neuproduktionen zu schaffen\, trennen wir uns regelmäßig von zahlreichen Kostümen aus verschiedenen Produktionen der letzten Jahre. Es handelt sich überwiegend um Unikate wie handgearbeitete Fantasiekostüme\, historische Gewänder\, Uniformen\, Hüte und Kopfbedeckungen in vielen unterschiedlichen Größen. \nEine tolle Gelegenheit\, sich um ein hochwertiges Outfit für Fasching oder den nächsten Motto-Geburtstag zu kümmern. \nDer Kostümverkauf findet von 10 bis 15 Uhr auf unserer Studiobühne statt. Es sind zwei Tickets pro Person buchbar\, die Tickets sind kostenfrei. \nWir bitten zu beachten\, dass nur Barzahlung möglich ist. \nUm die Umwelt zu schonen\, bringen Sie eine eigene Tüte mit.
URL:https://www.mucbook.de/event/kostuemverkauf-gaertnerplatztheater-2/
LOCATION:Gärtnerplatz\, Gärtnerplatz\, München\, 80469\, Germany
CATEGORIES:Fashion,Flohmarkt,Theater
ATTACH;FMTTYPE=image/jpeg:https://www.mucbook.de/wp-content/uploads/2023/11/x_img_6542.jpg
END:VEVENT
END:VCALENDAR