BEGIN:VCALENDAR
VERSION:2.0
PRODID:-//MUCBOOK - ECPv5.14.0.4//NONSGML v1.0//EN
CALSCALE:GREGORIAN
METHOD:PUBLISH
X-WR-CALNAME:MUCBOOK
X-ORIGINAL-URL:https://www.mucbook.de
X-WR-CALDESC:Veranstaltungen für MUCBOOK
BEGIN:VTIMEZONE
TZID:Europe/Berlin
BEGIN:DAYLIGHT
TZOFFSETFROM:+0100
TZOFFSETTO:+0200
TZNAME:CEST
DTSTART:20250330T010000
END:DAYLIGHT
BEGIN:STANDARD
TZOFFSETFROM:+0200
TZOFFSETTO:+0100
TZNAME:CET
DTSTART:20251026T010000
END:STANDARD
END:VTIMEZONE
BEGIN:VEVENT
DTSTART;TZID=Europe/Berlin:20250604T173000
DTEND;TZID=Europe/Berlin:20250604T173000
DTSTAMP:20260419T164002
CREATED:20250505T085146Z
LAST-MODIFIED:20250505T085146Z
UID:235257-1749058200-1749058200@www.mucbook.de
SUMMARY:Kultur Macht Stadt
DESCRIPTION:Kultur trifft StadtentwicklungKultur prägt Stadtbilder\, fördert Begegnung und steigert Quartierswerte – doch welche Rolle spielt sie konkret in der Stadtplanung? Darüber sprechen Joe Chialo (Berliner Kultursenator) und Markus Blume (Bayerischer Staatsminister für Wissenschaft und Kunst) im comN Netzwerkhaus. \nEs erwartet Sie ein Abend mit spannenden Impulsen zu Kultur\, Stadtentwicklung und Investitionen – moderiert von Anna Kleeblatt und Matthias Ottmann. Für Austausch und Networking ist gesorgt: bei Buffet und Ausklang auf der Rooftop-Terrasse mit Blick über München.
URL:https://www.mucbook.de/event/kultur-macht-stadt/
LOCATION:comN – Das Netzwerkhaus\, Gotzinger Straße 19\, München\, 81371\, Deutschland
CATEGORIES:Diskussion,Kunst,stadtentwicklung,Vortrag
ATTACH;FMTTYPE=image/jpeg:https://www.mucbook.de/wp-content/uploads/2025/05/image001.jpeg
ORGANIZER;CN="Urban%20Progress":MAILTO:welcome@urbanprogress.de
END:VEVENT
END:VCALENDAR