BEGIN:VCALENDAR
VERSION:2.0
PRODID:-//MUCBOOK - ECPv5.14.0.4//NONSGML v1.0//EN
CALSCALE:GREGORIAN
METHOD:PUBLISH
X-WR-CALNAME:MUCBOOK
X-ORIGINAL-URL:https://www.mucbook.de
X-WR-CALDESC:Veranstaltungen für MUCBOOK
BEGIN:VTIMEZONE
TZID:Europe/Berlin
BEGIN:DAYLIGHT
TZOFFSETFROM:+0100
TZOFFSETTO:+0200
TZNAME:CEST
DTSTART:20250330T010000
END:DAYLIGHT
BEGIN:STANDARD
TZOFFSETFROM:+0200
TZOFFSETTO:+0100
TZNAME:CET
DTSTART:20251026T010000
END:STANDARD
END:VTIMEZONE
BEGIN:VEVENT
DTSTART;TZID=Europe/Berlin:20250620T120000
DTEND;TZID=Europe/Berlin:20250620T220000
DTSTAMP:20260419T181717
CREATED:20250615T122325Z
LAST-MODIFIED:20250615T122356Z
UID:235712-1750420800-1750456800@www.mucbook.de
SUMMARY:Kulturbiergarten Neptunbrunnen (freier Eintritt)
DESCRIPTION:Sommer im Kult(ur)Biergarten:  \nDurch den Kult(ur)Biergarten von Park-Café-Chef Christian Lehner verwandelt sich der Alte Botanische Garten in einen Treffpunkt für Kultur\, Kulinarik und Community: \nVon 12 bis 22 Uhr erwartet die Besucher*innen ein vielseitiges Programm – von lässigem Lunch bis Daydrinking\, von Champagnerbar bis Live-Sound mit DJ Tom Wieland (Les Gammas/Vienna). \nZwischen urbanem Picknickfeeling und musikalischem Sundowner setzt das Event auch neue Impulse für die zukünftige Nutzung des Parks: \nLine-up & Highlights am 20.6. \n\nGrillviertel | 12:00 – 22:00\nNeptun Stehausschank (Hofbräu) | 12:00 – 22:00\nMetzgerei Holzner | 12:00 – 22:00\nLunch & Daydrinking mit 089Kult | 12:00 – 17:00\nChampagnerbar | 17:00 – 22:00\nTom Wieland (Les Gammas\, Vienna) | 17:00 – 22:00\n\n 
URL:https://www.mucbook.de/event/kulturbiergarten-neptunbrunnen-freier-eintritt/
LOCATION:Neptunbrunnen\, Alter Botanischer Garten\, München\, Deutschland
CATEGORIES:Aktion,Konzert
ATTACH;FMTTYPE=image/jpeg:https://www.mucbook.de/wp-content/uploads/2025/05/Bildschirmfoto-2025-05-18-um-11.08.31.jpg
END:VEVENT
END:VCALENDAR