BEGIN:VCALENDAR
VERSION:2.0
PRODID:-//MUCBOOK - ECPv5.14.0.4//NONSGML v1.0//EN
CALSCALE:GREGORIAN
METHOD:PUBLISH
X-WR-CALNAME:MUCBOOK
X-ORIGINAL-URL:https://www.mucbook.de
X-WR-CALDESC:Veranstaltungen für MUCBOOK
BEGIN:VTIMEZONE
TZID:Europe/Berlin
BEGIN:DAYLIGHT
TZOFFSETFROM:+0100
TZOFFSETTO:+0200
TZNAME:CEST
DTSTART:20170326T010000
END:DAYLIGHT
BEGIN:STANDARD
TZOFFSETFROM:+0200
TZOFFSETTO:+0100
TZNAME:CET
DTSTART:20171029T010000
END:STANDARD
END:VTIMEZONE
BEGIN:VEVENT
DTSTART;TZID=Europe/Berlin:20170925T190000
DTEND;TZID=Europe/Berlin:20170925T200000
DTSTAMP:20260419T151847
CREATED:20170831T081455Z
LAST-MODIFIED:20170906T122929Z
UID:116852-1506366000-1506369600@www.mucbook.de
SUMMARY:Lederhosentraining @ Englischer Garten
DESCRIPTION:Einmal in der Woche kann man sich im Englischen Garten an der Wiese beim Japanischen Teehaus treffen\, um (nicht verpflichtend) in Tracht zu sporteln. Jeder darf mitmachen\, das Training ist fordernd\, aber man kann individuell Pausen machen\, wenn es zu viel sein sollte. \nDie Teilnahme ist kostenlos. \nDie Trainingseinheit dauert 60 Minuten. \nSollte der Termin wegen schlechter Witterung ausfallen\, wird das auf Facebook bekannt gegeben.
URL:https://www.mucbook.de/event/lederhosentraining-englischer-garten-4/
LOCATION:Englischer Garten
END:VEVENT
END:VCALENDAR