BEGIN:VCALENDAR
VERSION:2.0
PRODID:-//MUCBOOK - ECPv5.14.0.4//NONSGML v1.0//EN
CALSCALE:GREGORIAN
METHOD:PUBLISH
X-WR-CALNAME:MUCBOOK
X-ORIGINAL-URL:https://www.mucbook.de
X-WR-CALDESC:Veranstaltungen für MUCBOOK
BEGIN:VTIMEZONE
TZID:Europe/Berlin
BEGIN:DAYLIGHT
TZOFFSETFROM:+0100
TZOFFSETTO:+0200
TZNAME:CEST
DTSTART:20260329T010000
END:DAYLIGHT
BEGIN:STANDARD
TZOFFSETFROM:+0200
TZOFFSETTO:+0100
TZNAME:CET
DTSTART:20261025T010000
END:STANDARD
END:VTIMEZONE
BEGIN:VEVENT
DTSTART;TZID=Europe/Berlin:20260216T200000
DTEND;TZID=Europe/Berlin:20260216T220000
DTSTAMP:20260424T104253
CREATED:20260111T165605Z
LAST-MODIFIED:20260116T095900Z
UID:237022-1771272000-1771279200@www.mucbook.de
SUMMARY:Lesung zur Fotoausstellung „A Day With David Bowie“ im Pineapple Park – Eintritt frei
DESCRIPTION:Tiefer eintauchen in den Mythos Bowie kann man am Freitag 16. Januar 2026 um 20 Uhr\, wenn Uwe Schütte dort aus seinem Buch „Sternenmenschen“ liest. „Sternenmenschen“ sind meist unerreichbar. Das gilt für eine Pop-Ikone wie Bowie ebenso wie für die „Gugginger Künstler“\, die damaligen Langzeit-Patienten\, bei denen der Psychiater Leo Navratil eine besondere künstlerische Begabung erkannte und förderte. Uwe Schütte geht den Biografien der als „schizophren“ diagnostizierten Outsider-Künstler nach\, die er zur selben Zeit wie Bowie regelmäßig besuchte. \nDie großformatige s/w-Fotoserie „A Day with David Bowie“ der Fotografin Christine de Grancy ist noch bis 28. Februar im Münchner Pineapple Park zu sehen. Mit einem zurückhaltenden Blick auf einen reflektierten Bowie zeigen die künstlerisch anspruchsvollen Aufnahmen eine ganz andere Seite von ihm: Die des Suchenden\, der 1994 die Landesnervenklinik Gugging bei Wien besuchte. \nBilder\, die nicht nur Fans und Kunstinteressierte begeistern werden\, sondern auch alle\, die den Mythos Bowie näher erkunden wollen. Spannender Kontrapunkt in der Ausstellung: Der begehbare\, sehr bunte „Walla-Raum“ des Gugginger Künstlers August Walla mit detailreichen Wandzeichnungen und typischer „Outsider-Art“\, die Bowie damals sehr faszinierte. \nDie etablierte Reportage-\, Kunst- und Porträtfotografin Christine de Grancy folgte 1994 einer Einladung von André Heller\, der damals zusammen mit Bowie und Brian Eno das Gugging Art Center bei Wien besuchte. \nDie Lesung ist kostenfrei\, Anmeldung unter info@christineheinrich.de  \nPineapple Park München\, ehem. Paketpost-Areal\, Arnulfstr. 195\, 80634 München\, S Hirschgarten\, Tram 16/17 Briefzentrum
URL:https://www.mucbook.de/event/lesung-zur-fotoausstellung-a-day-with-david-bowie-im-pineapple-park/
LOCATION:Pineapple Park\, Arnulfstraße 195-199\, München
CATEGORIES:Lesung
ATTACH;FMTTYPE=image/jpeg:https://www.mucbook.de/wp-content/uploads/2026/01/BowieAusst1@EMS.jpg
END:VEVENT
END:VCALENDAR