BEGIN:VCALENDAR
VERSION:2.0
PRODID:-//MUCBOOK - ECPv5.14.0.4//NONSGML v1.0//EN
CALSCALE:GREGORIAN
METHOD:PUBLISH
X-WR-CALNAME:MUCBOOK
X-ORIGINAL-URL:https://www.mucbook.de
X-WR-CALDESC:Veranstaltungen für MUCBOOK
BEGIN:VTIMEZONE
TZID:Europe/Berlin
BEGIN:DAYLIGHT
TZOFFSETFROM:+0100
TZOFFSETTO:+0200
TZNAME:CEST
DTSTART:20170326T010000
END:DAYLIGHT
BEGIN:STANDARD
TZOFFSETFROM:+0200
TZOFFSETTO:+0100
TZNAME:CET
DTSTART:20171029T010000
END:STANDARD
END:VTIMEZONE
BEGIN:VEVENT
DTSTART;TZID=Europe/Berlin:20171020T230000
DTEND;TZID=Europe/Berlin:20171020T230000
DTSTAMP:20260422T010427
CREATED:20171016T144136Z
LAST-MODIFIED:20171016T150705Z
UID:119400-1508540400-1508540400@www.mucbook.de
SUMMARY:Liebemachen @ Clap Club 2.0
DESCRIPTION:Premiere in München: Die erfolgreiche Partyreihe  aus Köln “liebemachen.” kommt in die bayrische Landeshauptstadt.\nFeiert zu Indietronic\, DeepHouse\, Hits und Dancing Music von den DJ’s\nTobi Tellers (liebemachen. | Köln)\nDer Junge aus Berlin (liebemachen. | Köln). \nBeginn: 23 Uhr (20.10.2017) bis 05 Uhr (21.10.2017)\nEintritt: 10 €
URL:https://www.mucbook.de/event/liebemachen-clap-club-2-0/
LOCATION:Clap Club 2.0\, Türkenstraße 95\, München\, 80799
END:VEVENT
END:VCALENDAR