BEGIN:VCALENDAR
VERSION:2.0
PRODID:-//MUCBOOK - ECPv5.14.0.4//NONSGML v1.0//EN
CALSCALE:GREGORIAN
METHOD:PUBLISH
X-WR-CALNAME:MUCBOOK
X-ORIGINAL-URL:https://www.mucbook.de
X-WR-CALDESC:Veranstaltungen für MUCBOOK
BEGIN:VTIMEZONE
TZID:Europe/Berlin
BEGIN:DAYLIGHT
TZOFFSETFROM:+0100
TZOFFSETTO:+0200
TZNAME:CEST
DTSTART:20170326T010000
END:DAYLIGHT
BEGIN:STANDARD
TZOFFSETFROM:+0200
TZOFFSETTO:+0100
TZNAME:CET
DTSTART:20171029T010000
END:STANDARD
END:VTIMEZONE
BEGIN:VEVENT
DTSTART;TZID=Europe/Berlin:20170203T200000
DTEND;TZID=Europe/Berlin:20170203T230000
DTSTAMP:20260424T184217
CREATED:20170131T123505Z
LAST-MODIFIED:20170201T124320Z
UID:102379-1486152000-1486162800@www.mucbook.de
SUMMARY:LOVE VERGNÜGEN
DESCRIPTION:mit André Dancekowski und VELI x VIWO\nEintritt: 5\,- (vor 24h) 8\,- \nEs ist wieder Zeit für jede Menge Amore in München! Mit Vergnügen München entdeckt ständig die Vergnügen dieser Stadt – von Untergiesing in die Maxvorstadt\, von der Westendstraße zum Max-Weber-Platz\, von der Gruam in die Kammerspiele.\nAm 3. Februar trifft man sich daher einfach grob in der Mitte. Genauer gesagt im Downtown Flash. \nIhr seid richtig\, wenn ihr La Boum – die Fete und Konfetti mögt und dem Charme von Monaco Franze nicht widerstehen könnt.
URL:https://www.mucbook.de/event/love-vergnuegen/
LOCATION:Downtown Flash\, Theklastraße 1 \, München\, Bayern\, 80469\, Deutschland
END:VEVENT
END:VCALENDAR