BEGIN:VCALENDAR
VERSION:2.0
PRODID:-//MUCBOOK - ECPv5.14.0.4//NONSGML v1.0//EN
CALSCALE:GREGORIAN
METHOD:PUBLISH
X-WR-CALNAME:MUCBOOK
X-ORIGINAL-URL:https://www.mucbook.de
X-WR-CALDESC:Veranstaltungen für MUCBOOK
BEGIN:VTIMEZONE
TZID:Europe/Berlin
BEGIN:DAYLIGHT
TZOFFSETFROM:+0100
TZOFFSETTO:+0200
TZNAME:CEST
DTSTART:20180325T010000
END:DAYLIGHT
BEGIN:STANDARD
TZOFFSETFROM:+0200
TZOFFSETTO:+0100
TZNAME:CET
DTSTART:20181028T010000
END:STANDARD
END:VTIMEZONE
BEGIN:VEVENT
DTSTART;VALUE=DATE:20181014
DTEND;VALUE=DATE:20181015
DTSTAMP:20260425T135056
CREATED:20180808T080042Z
LAST-MODIFIED:20180808T080042Z
UID:136117-1539475200-1539561599@www.mucbook.de
SUMMARY:Lustiges Horst und Markus Abwählen @ Bayern
DESCRIPTION:Wenn du auch nicht die menschenverachtenden\, nicht der Wahrheit entsprechenden AFD-Parolen von Horst\, Markus und Co. ertragen kannst und wenn du für eine offene Gesellschaft auf Grundlage des Grundgesetzes bist\, dann hilf mit\, am 14.10 dem Ganzen ein Ende zu bereiten und die CSU mit ihrer Führungsriege abzuwählen..
URL:https://www.mucbook.de/event/lustiges-horst-und-markus-abwaehlen-bayern/
LOCATION:Bayern
CATEGORIES:Aktion,Demonstration
END:VEVENT
END:VCALENDAR