BEGIN:VCALENDAR
VERSION:2.0
PRODID:-//MUCBOOK - ECPv5.14.0.4//NONSGML v1.0//EN
CALSCALE:GREGORIAN
METHOD:PUBLISH
X-WR-CALNAME:MUCBOOK
X-ORIGINAL-URL:https://www.mucbook.de
X-WR-CALDESC:Veranstaltungen für MUCBOOK
BEGIN:VTIMEZONE
TZID:Europe/Berlin
BEGIN:DAYLIGHT
TZOFFSETFROM:+0100
TZOFFSETTO:+0200
TZNAME:CEST
DTSTART:20190331T010000
END:DAYLIGHT
BEGIN:STANDARD
TZOFFSETFROM:+0200
TZOFFSETTO:+0100
TZNAME:CET
DTSTART:20191027T010000
END:STANDARD
END:VTIMEZONE
BEGIN:VEVENT
DTSTART;TZID=Europe/Berlin:20190420T100000
DTEND;TZID=Europe/Berlin:20190420T170000
DTSTAMP:20260419T164532
CREATED:20190415T085740Z
LAST-MODIFIED:20190415T085740Z
UID:152780-1555754400-1555779600@www.mucbook.de
SUMMARY:Mieten senken mit Sci-Fi und KI @ Alte Akademie
DESCRIPTION:MIETEN SENKEN MIT SCI-FI & KI?\nAlso mit Science-Fiction und Künstlicher Intelligenz? Ernsthaft?\nUnd das soll funktionieren? Geht das?\nRausfinden beim Workshop von 10:00 bis 17:30 in Raum 423 Botschaft von Uẑupis \nIn diesem Workshop wollen wir durch Sci-Fi inspiriert Ideen spinnen\, um mit Hilfe von Künstlicher Intelligenz die Mieten in München zu senken. Genau! Wir kombinieren die mächtigste Kunstform unserer Zeit mit der mächtigsten Technologie unserer Zeit – also wenn das nicht scheppert\, dann weiß ich auch nicht.
URL:https://www.mucbook.de/event/mieten-senken-mit-sci-fi-und-ki-alte-akademie/
LOCATION:Embassy of the Republic of Užupis to Munich\, Neuhauser Str. 8-10\, Raum 423\, München\, Bayern\, 80333\, Deutschland
CATEGORIES:Workshop
ORGANIZER;CN="SP-CE":MAILTO:info@sp-ce.de
END:VEVENT
END:VCALENDAR