BEGIN:VCALENDAR
VERSION:2.0
PRODID:-//MUCBOOK - ECPv5.14.0.4//NONSGML v1.0//EN
CALSCALE:GREGORIAN
METHOD:PUBLISH
X-WR-CALNAME:MUCBOOK
X-ORIGINAL-URL:https://www.mucbook.de
X-WR-CALDESC:Veranstaltungen für MUCBOOK
BEGIN:VTIMEZONE
TZID:Europe/Berlin
BEGIN:DAYLIGHT
TZOFFSETFROM:+0100
TZOFFSETTO:+0200
TZNAME:CEST
DTSTART:20190331T010000
END:DAYLIGHT
BEGIN:STANDARD
TZOFFSETFROM:+0200
TZOFFSETTO:+0100
TZNAME:CET
DTSTART:20191027T010000
END:STANDARD
END:VTIMEZONE
BEGIN:VEVENT
DTSTART;TZID=Europe/Berlin:20190529T170000
DTEND;TZID=Europe/Berlin:20190529T233000
DTSTAMP:20260424T140153
CREATED:20190516T080451Z
LAST-MODIFIED:20190527T085237Z
UID:155791-1559149200-1559172600@www.mucbook.de
SUMMARY:Mucbook Release Party @ Popup Akademie / Alte Akademie
DESCRIPTION:WE DID IT … AGAIN! \n \nDas neue MUCBOOK Magazin 12 ist da und wir feiern unsere Ausgabe zum Thema “Start-ups” in der coolsten Zwischennutzung Münchens – dem SP-CE. \n>> AUFRISS\nAm Mittwoch\, den 29. Mai\, verwandeln wir den Innenhof der Alten Akademie zur Backyard-Party mit Foodtrucks\, Live Musik\, Drinks und DJs. Und ab 22 Uhr geht die Party dann mit einem grandiosen Line-Up in der Kantine weiter. \n>> ABRISS\nLetzte Gelegenheit\, übrigens\, den SP-CE zu erleben! Ab Juni ist nämlich auch schon Schluss. Deswegen SP CE Closing und MUCBOOK Release in einem Aufwasch mitnehmen!
URL:https://www.mucbook.de/event/mucbook-release-party-popup-akademie-alte-akademie/
LOCATION:Alte Akademie\, Neuhauserstraße 8-10\, München
CATEGORIES:Fest,Party
END:VEVENT
END:VCALENDAR