BEGIN:VCALENDAR
VERSION:2.0
PRODID:-//MUCBOOK - ECPv5.14.0.4//NONSGML v1.0//EN
CALSCALE:GREGORIAN
METHOD:PUBLISH
X-WR-CALNAME:MUCBOOK
X-ORIGINAL-URL:https://www.mucbook.de
X-WR-CALDESC:Veranstaltungen für MUCBOOK
BEGIN:VTIMEZONE
TZID:Europe/Berlin
BEGIN:DAYLIGHT
TZOFFSETFROM:+0100
TZOFFSETTO:+0200
TZNAME:CEST
DTSTART:20190331T010000
END:DAYLIGHT
BEGIN:STANDARD
TZOFFSETFROM:+0200
TZOFFSETTO:+0100
TZNAME:CET
DTSTART:20191027T010000
END:STANDARD
END:VTIMEZONE
BEGIN:VEVENT
DTSTART;TZID=Europe/Berlin:20190803T150000
DTEND;TZID=Europe/Berlin:20190803T150000
DTSTAMP:20260422T134239
CREATED:20190726T075337Z
LAST-MODIFIED:20190801T143649Z
UID:161641-1564844400-1564844400@www.mucbook.de
SUMMARY:München MöchteGern Freiraum-Konvoi 2019
DESCRIPTION:München MöchteGern Freiraum-Konvoi 2019 \n\nEine bunte Karawane schlängelt sich durch die Straßen dieser Stadt – von Lastern schallt Musik\, Räder\, Rikschas\, Rollschuhe rollen durcheinander\, Seifenblasen fliegen durch die Luft\, Kaffee und Kuchen werden serviert\, und über das was-wer-und-warum informiert der Infoanhänger: Auch dieses Jahr lädt e in Konglomerat aus verschiedenen Kultur- und Wohnprojekten aus München und Umgebung zum seit 2012 immer wieder stattfindenden Freiraumkonvoi ein .\n\nDenn wir sehen weiterhin “ kein Licht im Dunkel “ im immer zuspekulierteren\, zugentrifizierteren München\, kaum Chancen und Freiräume für kleine\, unkommerzielle\, liebevolle\, bunte Projekte oder Kollektive\, Bands oder einzelne Engagierte \, die doch so viel mehr Leben\, Farbe und Klang in unser sauberes\, s teriles München bringen könnten.\n\nStändig müssen wir kämpfen\, verhandeln oder Raum suchen \, um leben und arbeiten zu können. Das nimmt uns Zeit und Kraft\, die wir in Projekte\, Feste und Aktionen stecken könnten\, um unser Leben und das unserer Mitmenschen zu verschönern und zu bereichern. \n\nMünchen\, das ist die Stadt die sich so gern im Licht der eigenen Liberalität sonnt und sich auf die eigenen freiheitsliebenden Schultern klopft\, während die kleinen Nischen\, die es immer wieder und immer noch gibt\, sich für den eigenen Erhalt abstrampeln und darauf hoffen müssen\, dass die Walze der Umstrukturierung sie nicht beim nächsten Anlauf plattwalzt. \n\nMünchen nennt sich Weltstadt mit Herz\, aber ist eher ein Schmerz für jene\, die sich nicht die steigenden Mietpreise leisten können. Kunst-\, Sozial- und Kulturarbeit ist immer noch schlecht bezahlt\, für denZusammenhalt einer Gesellschaft aber essentiell. München versucht sein Herz zu verdrängen\, hinter den Rand\, jenseits des Speckgürtels\, da wo sein Schlagen nicht mehr gehört und gesehen wird. Eine Stadt braucht ihr Herz aber in ihrer Mitte \, um nicht zu sterben.\n\nUnser Freiraum-Konvoi möchte den in München Lebenden zeigen\, wie wichtig Freiräume sind und lädt ein auf einen Umzug durch die Stadt. An unterschiedlichen Orten werden wir halten und über ein dort ansässiges Projekt berichten oder um ein von dort verdrängtes Projekt trauern.\n\nMünchen\, du Möchtegern-Freiraum!    \nNeben Hochglanz Hochkultur gibt es Subkultur!\nmassiv\, bunt\, spontan\, unkommerziell \, kreativ\, krass und einfach DA!\n\nLiebe Stadt\, lasst uns Raum und lasst uns machen.\nMünchen möchte sehr gern Freiraum!\nMünchen braucht Freiraum!\n\nDer Freiraum findet am 03. August 2019 statt. Wir starten um 15 Uhr am Resi-Huber-Platz und wir enden im Westend beim Straßenfest vom Kösk und der Ligsalz8\n\nBeteiligte Projekte: \ndept. of volxvergnuegen\, Stattpark Olga\, Hin und Weg\, Kafe Kult\, Wohnprojekt Ligsalz8\, DoniHof\, Siebdruck-Schmitz& WerkBox3\, Mittagstopf\, Kafe Marat\, Karl e.V.\, Black Rat Collective\, Wohnprojektinitiative El Caracol\, Freiraum Dachau\, Rad und Tat\, Klimacamp\, muccc 
URL:https://www.mucbook.de/event/muenchen-moechtegern-freiraum-konvoi-2019/
LOCATION:Resi-Huber-Platz\, München\, 81371
CATEGORIES:Aktion,Demonstration
END:VEVENT
END:VCALENDAR