BEGIN:VCALENDAR
VERSION:2.0
PRODID:-//MUCBOOK - ECPv5.14.0.4//NONSGML v1.0//EN
CALSCALE:GREGORIAN
METHOD:PUBLISH
X-WR-CALNAME:MUCBOOK
X-ORIGINAL-URL:https://www.mucbook.de
X-WR-CALDESC:Veranstaltungen für MUCBOOK
BEGIN:VTIMEZONE
TZID:Europe/Berlin
BEGIN:DAYLIGHT
TZOFFSETFROM:+0100
TZOFFSETTO:+0200
TZNAME:CEST
DTSTART:20210328T010000
END:DAYLIGHT
BEGIN:STANDARD
TZOFFSETFROM:+0200
TZOFFSETTO:+0100
TZNAME:CET
DTSTART:20211031T010000
END:STANDARD
END:VTIMEZONE
BEGIN:VEVENT
DTSTART;TZID=Europe/Berlin:20211007T180000
DTEND;TZID=Europe/Berlin:20211015T180000
DTSTAMP:20260425T123218
CREATED:20211006T083832Z
LAST-MODIFIED:20211006T083832Z
UID:205363-1633629600-1634320800@www.mucbook.de
SUMMARY:Münchner Woche für seelische Gesundheit @Digitale Veranstaltung von Münchner Bündnis gegen Depression e.V.
DESCRIPTION:„Alles Krise\, oder was?!“:\nDie 8. Münchner Woche für Seelische Gesundheit findet dieses Jahr in der Zeit vom 7. bis 15. Oktober 2021 weitgehend in digitaler Form statt. Mit ihrem Schwerpunkt „Alles Krise\, oder was?!“ bietet sie vielen Menschen die Möglichkeit\, sich Anregungen\, Informationen und Hilfestellungen zu Themen rund um die seelische Gesundheit zu beschaffen – dies ist unbestritten gerade in dieser kritischen Zeit wichtiger denn je. Die 185 Veranstaltungen sind so vielfältig wie das Thema Seelische Gesundheit selbst: von Präventionsangeboten und Sprechstunden über Vorträge und Diskussionsrunden bis hin zu Ausstellungen. Außerdem gibt es eine digitale Messe mit 65 Messeständen.\nEintritt frei!\nAlle Infos findet ihr auf www.woche-seelische-gesundheit.de oder über den Link in Bio!\nBei Interesse oder Rückfragen wenden Sie sich an die info@muenchen-depression.de\nMit dabei sind u.a.\n@lsgbayern\n@mentalhealthcrowd\n@blaueskreuzmuenchen\n@diakonia_muenchen\n@donnamobile_aka\n@muenchner.frauenforum\n@real.verbund\n@krisendienste_bayern\n@kulturraum.muenchen\n@mash.muenchen\n@medicalparkgermany\n@mental.health.initiative\n@profamilia_muenchen\n@caritasmuc\n@schatten_und_licht_e.v
URL:https://www.mucbook.de/event/muenchner-woche-fuer-seelische-gesundheit-digitale-veranstaltung-von-muenchner-buendnis-gegen-depression-e-v/
CATEGORIES:Livestream,Messe
END:VEVENT
END:VCALENDAR