BEGIN:VCALENDAR
VERSION:2.0
PRODID:-//MUCBOOK - ECPv5.14.0.4//NONSGML v1.0//EN
CALSCALE:GREGORIAN
METHOD:PUBLISH
X-WR-CALNAME:MUCBOOK
X-ORIGINAL-URL:https://www.mucbook.de
X-WR-CALDESC:Veranstaltungen für MUCBOOK
BEGIN:VTIMEZONE
TZID:Europe/Berlin
BEGIN:DAYLIGHT
TZOFFSETFROM:+0100
TZOFFSETTO:+0200
TZNAME:CEST
DTSTART:20170326T010000
END:DAYLIGHT
BEGIN:STANDARD
TZOFFSETFROM:+0200
TZOFFSETTO:+0100
TZNAME:CET
DTSTART:20171029T010000
END:STANDARD
END:VTIMEZONE
BEGIN:VEVENT
DTSTART;TZID=Europe/Berlin:20170908T180000
DTEND;TZID=Europe/Berlin:20170908T180000
DTSTAMP:20260421T121305
CREATED:20170908T081522Z
LAST-MODIFIED:20170908T081523Z
UID:117486-1504893600-1504893600@www.mucbook.de
SUMMARY:Nachtschwärmer - Die Kult(ur)-Nacht @ Münchner Innenstadt
DESCRIPTION:Bummeln\, Staunen und Entdecken bei der 11. Kult(ur)-Nacht „nachtschwärmer“. Am Freitag\, 8. September lädt die Münchner Innenstadt wieder zum Flanieren und Genießen ein. An vielen Stationen in der Innenstadt erwartet Sie ein tolles Programm aus Musik\, Akrobatik\, Literatur und vielen anderen faszinierenden Showacts. Eine Veranstaltung von CityPartner München und Presentingpartner „Stadtsparkasse München – die Bank unserer Stadt“. \nAlle Infos dazu unter: http://www.muenchen.de/veranstaltungen/event/4563.html
URL:https://www.mucbook.de/event/nachtschwaermer-die-kultur-nacht-muenchner-innenstadt/
LOCATION:München
CATEGORIES:Fest,Live,Märkte und Messen,Musik,Party
END:VEVENT
END:VCALENDAR