BEGIN:VCALENDAR
VERSION:2.0
PRODID:-//MUCBOOK - ECPv5.14.0.4//NONSGML v1.0//EN
CALSCALE:GREGORIAN
METHOD:PUBLISH
X-WR-CALNAME:MUCBOOK
X-ORIGINAL-URL:https://www.mucbook.de
X-WR-CALDESC:Veranstaltungen für MUCBOOK
BEGIN:VTIMEZONE
TZID:Europe/Berlin
BEGIN:DAYLIGHT
TZOFFSETFROM:+0100
TZOFFSETTO:+0200
TZNAME:CEST
DTSTART:20170326T010000
END:DAYLIGHT
BEGIN:STANDARD
TZOFFSETFROM:+0200
TZOFFSETTO:+0100
TZNAME:CET
DTSTART:20171029T010000
END:STANDARD
END:VTIMEZONE
BEGIN:VEVENT
DTSTART;TZID=Europe/Berlin:20171020T200000
DTEND;TZID=Europe/Berlin:20171020T233000
DTSTAMP:20260422T021302
CREATED:20170919T130734Z
LAST-MODIFIED:20170919T130734Z
UID:118075-1508529600-1508542200@www.mucbook.de
SUMMARY:Nimo „k¡k¡“ Tour 2017 @ Muffathalle
DESCRIPTION:SUPPORT: DARDAN \nSPECIAL GUEST: Hanybal \nVideos mit Klickzahlen im Millionenbereich\, ein Mixtape in den Top 10 der Charts\, ein Vertrag bei 385i\, dem Label von Celo & Abdi\, eine ausverkaufte Tour im Herbst 2016\, ein Platz auf dem »Deutschraps Zukunft«-Cover des HipHop-Magazins JUICE. Keine Frage – Nimo ist der Rapper der Stunde. Völlig zu Recht. Denn der 21-jährige ist nicht einfach nur ein weiterer Straßenrapper. Da er sich nicht um übertriebene Härte bemüht oder ein unsinniges Image glorifiziert\, sondern einfach nur ein Junge von Nebenan ist. Wie du und ich. Wie er und sie. Demütig und dankbar für diese Chance\, die er bekommen hat\, denn er weiß\, dass sie keine Selbstverständlichkeit ist. Am 16.06.17 erscheint Nimos Debütalbum »K¡K¡«\, mit dem er ab dem 04.10.17 auch auf Tour ist.
URL:https://www.mucbook.de/event/nimo-kk-tour-2017-muffathalle/
LOCATION:Muffathalle\, Zellstr. 4\, 81667
CATEGORIES:Musik
END:VEVENT
END:VCALENDAR