BEGIN:VCALENDAR
VERSION:2.0
PRODID:-//MUCBOOK - ECPv5.14.0.4//NONSGML v1.0//EN
CALSCALE:GREGORIAN
METHOD:PUBLISH
X-WR-CALNAME:MUCBOOK
X-ORIGINAL-URL:https://www.mucbook.de
X-WR-CALDESC:Veranstaltungen für MUCBOOK
BEGIN:VTIMEZONE
TZID:Europe/Berlin
BEGIN:DAYLIGHT
TZOFFSETFROM:+0100
TZOFFSETTO:+0200
TZNAME:CEST
DTSTART:20170326T010000
END:DAYLIGHT
BEGIN:STANDARD
TZOFFSETFROM:+0200
TZOFFSETTO:+0100
TZNAME:CET
DTSTART:20171029T010000
END:STANDARD
END:VTIMEZONE
BEGIN:VEVENT
DTSTART;TZID=Europe/Berlin:20170908T160000
DTEND;TZID=Europe/Berlin:20170908T160000
DTSTAMP:20260419T221248
CREATED:20170905T112356Z
LAST-MODIFIED:20170905T112356Z
UID:117121-1504886400-1504886400@www.mucbook.de
SUMMARY:OPEN art 2017 @ München
DESCRIPTION:OPEN art 2017\n8. | 9. |10. September\nDas Kunstwochenende der Münchner Galerien zeitgenössischer Kunst\nwww.openart.biz \nZum 29. Mal eröffnen am zweiten Septemberwochenende über 65 Münchner Galerien und Institutionen für zeitgenössische Kunst gemeinsam die Kunstsaison nach der Sommerpause. \nPROGRAMM \nFREITAG\n16 Uhr\nEröffnung der OPEN art im ESPACE LOUIS VUITTON MÜNCHEN (Maximilianstr. 2a)\nmit Einführung in die Austellung Ian Cheng – EMISSARY FORKS featuring THOUSAND ISLANDS \n18–21 Uhr\nEröffnungen der Ausstellungen in allen teilnehmenden Galerien \nSAMSTAG + SONNTAG\n11–18 Uhr\nÖffnung aller teilnehmenden Galerien \n11 | 14 | 16 Uhr\nRundgänge durch ausgewählte Galerien\n(Tickets €10\,- / bis 14Jahre frei) \nWeitere Veranstaltungen finden Sie in unserem Kalender unter www.openart.biz/termine/ \nWir wünschen ein spannendes Wochenende !
URL:https://www.mucbook.de/event/open-art-2017-muenchen/
LOCATION:München
CATEGORIES:Ausstellung,Kunst
END:VEVENT
END:VCALENDAR